BEGIN:VCALENDAR
VERSION:2.0
PRODID:-//NMDGF - ECPv6.15.18//NONSGML v1.0//EN
CALSCALE:GREGORIAN
METHOD:PUBLISH
X-ORIGINAL-URL:https://wildlife.dgf.nm.gov
X-WR-CALDESC:Events for NMDGF
REFRESH-INTERVAL;VALUE=DURATION:PT1H
X-Robots-Tag:noindex
X-PUBLISHED-TTL:PT1H
BEGIN:VTIMEZONE
TZID:America/Denver
BEGIN:DAYLIGHT
TZOFFSETFROM:-0700
TZOFFSETTO:-0600
TZNAME:MDT
DTSTART:20240310T090000
END:DAYLIGHT
BEGIN:STANDARD
TZOFFSETFROM:-0600
TZOFFSETTO:-0700
TZNAME:MST
DTSTART:20241103T080000
END:STANDARD
BEGIN:DAYLIGHT
TZOFFSETFROM:-0700
TZOFFSETTO:-0600
TZNAME:MDT
DTSTART:20250309T090000
END:DAYLIGHT
BEGIN:STANDARD
TZOFFSETFROM:-0600
TZOFFSETTO:-0700
TZNAME:MST
DTSTART:20251102T080000
END:STANDARD
BEGIN:DAYLIGHT
TZOFFSETFROM:-0700
TZOFFSETTO:-0600
TZNAME:MDT
DTSTART:20260308T090000
END:DAYLIGHT
BEGIN:STANDARD
TZOFFSETFROM:-0600
TZOFFSETTO:-0700
TZNAME:MST
DTSTART:20261101T080000
END:STANDARD
END:VTIMEZONE
BEGIN:VEVENT
DTSTART;TZID=America/Denver:20250208T080000
DTEND;TZID=America/Denver:20250208T170000
DTSTAMP:20260420T154307
CREATED:20241120T214009Z
LAST-MODIFIED:20241120T214009Z
UID:10000279-1739001600-1739034000@wildlife.dgf.nm.gov
SUMMARY:"On Target" Year 3 NASP Archery Tournament - Rio Rancho Middle School
DESCRIPTION:10- and 15-Meter Bullseye Range – open to NASP-sponsored programs – Youths in grades 4-12. \nThe National Archery in the Schools Program (NASP) is an in-school archery program that promotes target and 3-D archery to students in grades 4-12. More information can be found at naspschools.org. \n  \nRegister at: nasptournaments.org  or contact Joshua Garcia at joshua.garcia@rrps.net
URL:https://wildlife.dgf.nm.gov/event/on-target-year-3-nasp-archery-tournament-rio-rancho-middle-school/
LOCATION:Rio Rancho High School
CATEGORIES:Recreation Events
ATTACH;FMTTYPE=image/jpeg:https://wildlife.dgf.nm.gov/wp-content/uploads/2014/01/title-background-le.jpg
ORGANIZER;CN="Joshua Garcia":MAILTO:joshua.garcia@rrps.net
END:VEVENT
BEGIN:VEVENT
DTSTART;TZID=America/Denver:20250118T080000
DTEND;TZID=America/Denver:20250118T170000
DTSTAMP:20260420T154307
CREATED:20241120T213839Z
LAST-MODIFIED:20241120T213839Z
UID:10000278-1737187200-1737219600@wildlife.dgf.nm.gov
SUMMARY:Ram's Quest for the Bullseye
DESCRIPTION:10- and 15-Meter Bullseye Range – open to NASP-sponsored programs – Youths in grades 4-12. \nThe National Archery in the Schools Program (NASP) is an in-school archery program that promotes target and 3-D archery to students in grades 4-12. More information can be found at naspschools.org.
URL:https://wildlife.dgf.nm.gov/event/rams-quest-for-the-bullseye/
LOCATION:Rio Rancho High School
CATEGORIES:Recreation Events
ATTACH;FMTTYPE=image/jpeg:https://wildlife.dgf.nm.gov/wp-content/uploads/2014/01/title-background-le.jpg
ORGANIZER;CN="Bruce Atencio":MAILTO:Bruce.Atencio@dgf.nm.gov
END:VEVENT
END:VCALENDAR