BEGIN:VCALENDAR
VERSION:2.0
PRODID:-//NMDGF - ECPv6.15.18//NONSGML v1.0//EN
CALSCALE:GREGORIAN
METHOD:PUBLISH
X-WR-CALNAME:NMDGF
X-ORIGINAL-URL:https://wildlife.dgf.nm.gov
X-WR-CALDESC:Events for NMDGF
REFRESH-INTERVAL;VALUE=DURATION:PT1H
X-Robots-Tag:noindex
X-PUBLISHED-TTL:PT1H
BEGIN:VTIMEZONE
TZID:America/Denver
BEGIN:DAYLIGHT
TZOFFSETFROM:-0700
TZOFFSETTO:-0600
TZNAME:MDT
DTSTART:20230312T090000
END:DAYLIGHT
BEGIN:STANDARD
TZOFFSETFROM:-0600
TZOFFSETTO:-0700
TZNAME:MST
DTSTART:20231105T080000
END:STANDARD
BEGIN:DAYLIGHT
TZOFFSETFROM:-0700
TZOFFSETTO:-0600
TZNAME:MDT
DTSTART:20240310T090000
END:DAYLIGHT
BEGIN:STANDARD
TZOFFSETFROM:-0600
TZOFFSETTO:-0700
TZNAME:MST
DTSTART:20241103T080000
END:STANDARD
BEGIN:DAYLIGHT
TZOFFSETFROM:-0700
TZOFFSETTO:-0600
TZNAME:MDT
DTSTART:20250309T090000
END:DAYLIGHT
BEGIN:STANDARD
TZOFFSETFROM:-0600
TZOFFSETTO:-0700
TZNAME:MST
DTSTART:20251102T080000
END:STANDARD
END:VTIMEZONE
BEGIN:VEVENT
DTSTART;TZID=America/Denver:20241214T080000
DTEND;TZID=America/Denver:20241214T170000
DTSTAMP:20260420T055525
CREATED:20241120T205109Z
LAST-MODIFIED:20241120T205109Z
UID:10000251-1734163200-1734195600@wildlife.dgf.nm.gov
SUMMARY:Third Annual Cibola High School Cougar Classic Bullseye Tournament
DESCRIPTION:10- and 15-Meter Bullseye Range – open to NASP-sponsored programs – Youths in grades 4-12. \nThe National Archery in the Schools Program (NASP) is an in-school archery program that promotes target and 3-D archery to students in grades 4-12. More information can be found at naspschools.org. \nRegister at: nasptournaments.org  or contact Jessica – jalehcad@icloud.com
URL:https://wildlife.dgf.nm.gov/event/third-annual-cibola-high-school-cougar-classic-bullseye-tournament/
LOCATION:Cibola High School\, 1510 Ellison DR NW\, Albuquerque\, New Mexico
CATEGORIES:Recreation Events
ATTACH;FMTTYPE=image/jpeg:https://wildlife.dgf.nm.gov/wp-content/uploads/2014/01/title-background-le.jpg
ORGANIZER;CN="Bruce Atencio":MAILTO:Bruce.Atencio@dgf.nm.gov
END:VEVENT
END:VCALENDAR