BEGIN:VCALENDAR
VERSION:2.0
PRODID:-//NMDGF - ECPv6.15.18//NONSGML v1.0//EN
CALSCALE:GREGORIAN
METHOD:PUBLISH
X-ORIGINAL-URL:https://wildlife.dgf.nm.gov
X-WR-CALDESC:Events for NMDGF
REFRESH-INTERVAL;VALUE=DURATION:PT1H
X-Robots-Tag:noindex
X-PUBLISHED-TTL:PT1H
BEGIN:VTIMEZONE
TZID:America/Denver
BEGIN:DAYLIGHT
TZOFFSETFROM:-0700
TZOFFSETTO:-0600
TZNAME:MDT
DTSTART:20230312T090000
END:DAYLIGHT
BEGIN:STANDARD
TZOFFSETFROM:-0600
TZOFFSETTO:-0700
TZNAME:MST
DTSTART:20231105T080000
END:STANDARD
BEGIN:DAYLIGHT
TZOFFSETFROM:-0700
TZOFFSETTO:-0600
TZNAME:MDT
DTSTART:20240310T090000
END:DAYLIGHT
BEGIN:STANDARD
TZOFFSETFROM:-0600
TZOFFSETTO:-0700
TZNAME:MST
DTSTART:20241103T080000
END:STANDARD
BEGIN:DAYLIGHT
TZOFFSETFROM:-0700
TZOFFSETTO:-0600
TZNAME:MDT
DTSTART:20250309T090000
END:DAYLIGHT
BEGIN:STANDARD
TZOFFSETFROM:-0600
TZOFFSETTO:-0700
TZNAME:MST
DTSTART:20251102T080000
END:STANDARD
END:VTIMEZONE
BEGIN:VEVENT
DTSTART;TZID=America/Denver:20241019T100000
DTEND;TZID=America/Denver:20241019T140000
DTSTAMP:20260422T003616
CREATED:20241008T171750Z
LAST-MODIFIED:20241008T171750Z
UID:10000215-1729332000-1729346400@wildlife.dgf.nm.gov
SUMMARY:UNM Taos Fall Career Fest
DESCRIPTION:The Department will be hosting at table at the UNM Taos Fall Career Fest to discuss with prospective employees and provide valuable resources for students with colleges\, armed services\, service providers\, behavioral health specialists\, and employers and outreach programs to explore available resource and opportunities.
URL:https://wildlife.dgf.nm.gov/event/unm-taos-fall-career-fest/
LOCATION:UNM Taos\, Klauer Campus
CATEGORIES:Recreation Events
ATTACH;FMTTYPE=image/jpeg:https://wildlife.dgf.nm.gov/wp-content/uploads/2014/01/title-background-le.jpg
ORGANIZER;CN="Viki Vigil":MAILTO:vikivigil@unm.edu
END:VEVENT
END:VCALENDAR