BEGIN:VCALENDAR
VERSION:2.0
PRODID:-//NMDGF - ECPv6.15.18//NONSGML v1.0//EN
CALSCALE:GREGORIAN
METHOD:PUBLISH
X-ORIGINAL-URL:https://wildlife.dgf.nm.gov
X-WR-CALDESC:Events for NMDGF
REFRESH-INTERVAL;VALUE=DURATION:PT1H
X-Robots-Tag:noindex
X-PUBLISHED-TTL:PT1H
BEGIN:VTIMEZONE
TZID:America/Denver
BEGIN:DAYLIGHT
TZOFFSETFROM:-0700
TZOFFSETTO:-0600
TZNAME:MDT
DTSTART:20230312T090000
END:DAYLIGHT
BEGIN:STANDARD
TZOFFSETFROM:-0600
TZOFFSETTO:-0700
TZNAME:MST
DTSTART:20231105T080000
END:STANDARD
BEGIN:DAYLIGHT
TZOFFSETFROM:-0700
TZOFFSETTO:-0600
TZNAME:MDT
DTSTART:20240310T090000
END:DAYLIGHT
BEGIN:STANDARD
TZOFFSETFROM:-0600
TZOFFSETTO:-0700
TZNAME:MST
DTSTART:20241103T080000
END:STANDARD
BEGIN:DAYLIGHT
TZOFFSETFROM:-0700
TZOFFSETTO:-0600
TZNAME:MDT
DTSTART:20250309T090000
END:DAYLIGHT
BEGIN:STANDARD
TZOFFSETFROM:-0600
TZOFFSETTO:-0700
TZNAME:MST
DTSTART:20251102T080000
END:STANDARD
END:VTIMEZONE
BEGIN:VEVENT
DTSTART;TZID=America/Denver:20241115T100000
DTEND;TZID=America/Denver:20241115T120000
DTSTAMP:20260421T223406
CREATED:20241120T212720Z
LAST-MODIFIED:20241120T212720Z
UID:10000268-1731664800-1731672000@wildlife.dgf.nm.gov
SUMMARY:Various stations for Home School groups
DESCRIPTION:The Department will have various stations for G.E.O. Nature Co-op. The stations will include archery\, field dressing\, wildlife identification and journal entries. This event is closed to the public. \nN/A.  Closed to the public.
URL:https://wildlife.dgf.nm.gov/event/various-stations-for-home-school-groups/
LOCATION:G.E.O Nature Co-op
CATEGORIES:Recreation Events
ATTACH;FMTTYPE=image/jpeg:https://wildlife.dgf.nm.gov/wp-content/uploads/2014/01/title-background-le.jpg
ORGANIZER;CN="Kristina Roybal":MAILTO:roybalkristina@gmail.com
END:VEVENT
END:VCALENDAR