BEGIN:VCALENDAR
VERSION:2.0
PRODID:-//NMDGF - ECPv6.15.18//NONSGML v1.0//EN
CALSCALE:GREGORIAN
METHOD:PUBLISH
X-WR-CALNAME:NMDGF
X-ORIGINAL-URL:https://wildlife.dgf.nm.gov
X-WR-CALDESC:Events for NMDGF
REFRESH-INTERVAL;VALUE=DURATION:PT1H
X-Robots-Tag:noindex
X-PUBLISHED-TTL:PT1H
BEGIN:VTIMEZONE
TZID:America/Denver
BEGIN:DAYLIGHT
TZOFFSETFROM:-0700
TZOFFSETTO:-0600
TZNAME:MDT
DTSTART:20240310T090000
END:DAYLIGHT
BEGIN:STANDARD
TZOFFSETFROM:-0600
TZOFFSETTO:-0700
TZNAME:MST
DTSTART:20241103T080000
END:STANDARD
BEGIN:DAYLIGHT
TZOFFSETFROM:-0700
TZOFFSETTO:-0600
TZNAME:MDT
DTSTART:20250309T090000
END:DAYLIGHT
BEGIN:STANDARD
TZOFFSETFROM:-0600
TZOFFSETTO:-0700
TZNAME:MST
DTSTART:20251102T080000
END:STANDARD
BEGIN:DAYLIGHT
TZOFFSETFROM:-0700
TZOFFSETTO:-0600
TZNAME:MDT
DTSTART:20260308T090000
END:DAYLIGHT
BEGIN:STANDARD
TZOFFSETFROM:-0600
TZOFFSETTO:-0700
TZNAME:MST
DTSTART:20261101T080000
END:STANDARD
END:VTIMEZONE
BEGIN:VEVENT
DTSTART;TZID=America/Denver:20250321T102000
DTEND;TZID=America/Denver:20250321T120000
DTSTAMP:20260421T105907
CREATED:20250320T220455Z
LAST-MODIFIED:20250320T220455Z
UID:10000416-1742552400-1742558400@wildlife.dgf.nm.gov
SUMMARY:Trout in the Classroom School Presentation
DESCRIPTION:New Mexico Department of Game and Fish Aqua:c Educa:on Program staff will conduct two “Life Stages of Rainbow Trout / New Mexico Trout Species” class presenta:ons for middle school science classes from Monte del Sol Charter School in Santa Fe\, NM. The classes par:cipated in the 2024–2025 Trout in the Classroom program. This event is closed to the public.
URL:https://wildlife.dgf.nm.gov/event/trout-in-the-classroom-school-presentation/
CATEGORIES:Education Events,Fishing Events
ATTACH;FMTTYPE=image/png:https://wildlife.dgf.nm.gov/wp-content/uploads/2014/03/title-background-fish.png
ORGANIZER;CN="Erick Druva":MAILTO:edruva@montedelsol.org
END:VEVENT
END:VCALENDAR