BEGIN:VCALENDAR
VERSION:2.0
PRODID:-//NMDGF - ECPv6.15.18//NONSGML v1.0//EN
CALSCALE:GREGORIAN
METHOD:PUBLISH
X-WR-CALNAME:NMDGF
X-ORIGINAL-URL:https://wildlife.dgf.nm.gov
X-WR-CALDESC:Events for NMDGF
REFRESH-INTERVAL;VALUE=DURATION:PT1H
X-Robots-Tag:noindex
X-PUBLISHED-TTL:PT1H
BEGIN:VTIMEZONE
TZID:America/Denver
BEGIN:DAYLIGHT
TZOFFSETFROM:-0700
TZOFFSETTO:-0600
TZNAME:MDT
DTSTART:20230312T090000
END:DAYLIGHT
BEGIN:STANDARD
TZOFFSETFROM:-0600
TZOFFSETTO:-0700
TZNAME:MST
DTSTART:20231105T080000
END:STANDARD
BEGIN:DAYLIGHT
TZOFFSETFROM:-0700
TZOFFSETTO:-0600
TZNAME:MDT
DTSTART:20240310T090000
END:DAYLIGHT
BEGIN:STANDARD
TZOFFSETFROM:-0600
TZOFFSETTO:-0700
TZNAME:MST
DTSTART:20241103T080000
END:STANDARD
BEGIN:DAYLIGHT
TZOFFSETFROM:-0700
TZOFFSETTO:-0600
TZNAME:MDT
DTSTART:20250309T090000
END:DAYLIGHT
BEGIN:STANDARD
TZOFFSETFROM:-0600
TZOFFSETTO:-0700
TZNAME:MST
DTSTART:20251102T080000
END:STANDARD
END:VTIMEZONE
BEGIN:VEVENT
DTSTART;TZID=America/Denver:20240922T090000
DTEND;TZID=America/Denver:20240922T170000
DTSTAMP:20260422T003542
CREATED:20240906T194555Z
LAST-MODIFIED:20240906T194555Z
UID:10000158-1726995600-1727024400@wildlife.dgf.nm.gov
SUMMARY:Hunter Education
DESCRIPTION:This course is open to students of any age seeking Hunter Education certification to meet hunting requirements in New Mexico. This course is an instructor-led\, student course that incorporates lecture\, video\, break-out sessions\, review methods and homework to educate students. Students 10 and under must have a parent/adult present with them during class. All students MUST complete the Today’s Hunter student manual homework before participating in class. Students can pick up a free hard copy manual at Clovis Wing Shooting Center\, 726 County Rd. 17\, Clovis\, NM 88101. The manual can also be downloaded for free at\, www.hunter-ed.com/newmexico/manual/. Students are required to turn in their completed manual worksheets upon arrival to class.
URL:https://wildlife.dgf.nm.gov/event/hunter-education-20/2024-09-22/
LOCATION:Clovis Wing Shooting Center\, 726 County Rd 17\, Clovis\, New Mexico
CATEGORIES:Education Events,Hunting Events
ATTACH;FMTTYPE=image/jpeg:https://wildlife.dgf.nm.gov/wp-content/uploads/2014/01/title-background-elk.jpg
ORGANIZER;CN="Eric Goodkowsky":MAILTO:egoodkow@aol.com
END:VEVENT
BEGIN:VEVENT
DTSTART;TZID=America/Denver:20240921T090000
DTEND;TZID=America/Denver:20240921T170000
DTSTAMP:20260422T003542
CREATED:20240906T194555Z
LAST-MODIFIED:20240906T194555Z
UID:10000157-1726909200-1726938000@wildlife.dgf.nm.gov
SUMMARY:Hunter Education
DESCRIPTION:This course is open to students of any age seeking Hunter Education certification to meet hunting requirements in New Mexico. This course is an instructor-led\, student course that incorporates lecture\, video\, break-out sessions\, review methods and homework to educate students. Students 10 and under must have a parent/adult present with them during class. All students MUST complete the Today’s Hunter student manual homework before participating in class. Students can pick up a free hard copy manual at Clovis Wing Shooting Center\, 726 County Rd. 17\, Clovis\, NM 88101. The manual can also be downloaded for free at\, www.hunter-ed.com/newmexico/manual/. Students are required to turn in their completed manual worksheets upon arrival to class.
URL:https://wildlife.dgf.nm.gov/event/hunter-education-20/2024-09-21/
LOCATION:Clovis Wing Shooting Center\, 726 County Rd 17\, Clovis\, New Mexico
CATEGORIES:Education Events,Hunting Events
ATTACH;FMTTYPE=image/jpeg:https://wildlife.dgf.nm.gov/wp-content/uploads/2014/01/title-background-elk.jpg
ORGANIZER;CN="Eric Goodkowsky":MAILTO:egoodkow@aol.com
END:VEVENT
END:VCALENDAR