BEGIN:VCALENDAR
VERSION:2.0
PRODID:-//NMDGF - ECPv6.15.18//NONSGML v1.0//EN
CALSCALE:GREGORIAN
METHOD:PUBLISH
X-ORIGINAL-URL:https://wildlife.dgf.nm.gov
X-WR-CALDESC:Events for NMDGF
REFRESH-INTERVAL;VALUE=DURATION:PT1H
X-Robots-Tag:noindex
X-PUBLISHED-TTL:PT1H
BEGIN:VTIMEZONE
TZID:America/Denver
BEGIN:DAYLIGHT
TZOFFSETFROM:-0700
TZOFFSETTO:-0600
TZNAME:MDT
DTSTART:20230312T090000
END:DAYLIGHT
BEGIN:STANDARD
TZOFFSETFROM:-0600
TZOFFSETTO:-0700
TZNAME:MST
DTSTART:20231105T080000
END:STANDARD
BEGIN:DAYLIGHT
TZOFFSETFROM:-0700
TZOFFSETTO:-0600
TZNAME:MDT
DTSTART:20240310T090000
END:DAYLIGHT
BEGIN:STANDARD
TZOFFSETFROM:-0600
TZOFFSETTO:-0700
TZNAME:MST
DTSTART:20241103T080000
END:STANDARD
BEGIN:DAYLIGHT
TZOFFSETFROM:-0700
TZOFFSETTO:-0600
TZNAME:MDT
DTSTART:20250309T090000
END:DAYLIGHT
BEGIN:STANDARD
TZOFFSETFROM:-0600
TZOFFSETTO:-0700
TZNAME:MST
DTSTART:20251102T080000
END:STANDARD
BEGIN:DAYLIGHT
TZOFFSETFROM:-0700
TZOFFSETTO:-0600
TZNAME:MDT
DTSTART:20260308T090000
END:DAYLIGHT
BEGIN:STANDARD
TZOFFSETFROM:-0600
TZOFFSETTO:-0700
TZNAME:MST
DTSTART:20261101T080000
END:STANDARD
END:VTIMEZONE
BEGIN:VEVENT
DTSTART;TZID=America/Denver:20250303T090000
DTEND;TZID=America/Denver:20250303T170000
DTSTAMP:20260421T225626
CREATED:20240906T201117Z
LAST-MODIFIED:20240906T201117Z
UID:10000166-1740992400-1741021200@wildlife.dgf.nm.gov
SUMMARY:Hunter Education
DESCRIPTION:This course is open to students of any age seeking Hunter Education certification to meet hunting requirements in New Mexico. This course is an instructor-led\, student course that incorporates lecture\, video\, break-out sessions\, review methods and homework to educate students. Students 10 and under must have a parent/adult present with them during class. All students MUST complete the Today’s Hunter student manual homework before participating in class. Students can pick up a free hard copy manual at Clovis Wing Shooting Center\, 726 County Rd. 17\, Clovis\, NM 88101. The manual can also be downloaded for free at\, www.hunter-ed.com/newmexico/manual/. Students are required to turn in their completed manual worksheets upon arrival to class.
URL:https://wildlife.dgf.nm.gov/event/hunter-education-24/2025-03-03/
LOCATION:Clovis Wing Shooting Center\, 726 County Rd 17\, Clovis\, New Mexico
CATEGORIES:Education Events,Hunting Events
ATTACH;FMTTYPE=image/jpeg:https://wildlife.dgf.nm.gov/wp-content/uploads/2014/01/title-background-elk.jpg
ORGANIZER;CN="Eric Goodkowsky":MAILTO:egoodkow@aol.com
END:VEVENT
BEGIN:VEVENT
DTSTART;TZID=America/Denver:20250301T090000
DTEND;TZID=America/Denver:20250301T170000
DTSTAMP:20260421T225626
CREATED:20240906T201117Z
LAST-MODIFIED:20240906T201117Z
UID:10000165-1740819600-1740848400@wildlife.dgf.nm.gov
SUMMARY:Hunter Education
DESCRIPTION:This course is open to students of any age seeking Hunter Education certification to meet hunting requirements in New Mexico. This course is an instructor-led\, student course that incorporates lecture\, video\, break-out sessions\, review methods and homework to educate students. Students 10 and under must have a parent/adult present with them during class. All students MUST complete the Today’s Hunter student manual homework before participating in class. Students can pick up a free hard copy manual at Clovis Wing Shooting Center\, 726 County Rd. 17\, Clovis\, NM 88101. The manual can also be downloaded for free at\, www.hunter-ed.com/newmexico/manual/. Students are required to turn in their completed manual worksheets upon arrival to class.
URL:https://wildlife.dgf.nm.gov/event/hunter-education-24/2025-03-01/
LOCATION:Clovis Wing Shooting Center\, 726 County Rd 17\, Clovis\, New Mexico
CATEGORIES:Education Events,Hunting Events
ATTACH;FMTTYPE=image/jpeg:https://wildlife.dgf.nm.gov/wp-content/uploads/2014/01/title-background-elk.jpg
ORGANIZER;CN="Eric Goodkowsky":MAILTO:egoodkow@aol.com
END:VEVENT
BEGIN:VEVENT
DTSTART;TZID=America/Denver:20250202T090000
DTEND;TZID=America/Denver:20250202T170000
DTSTAMP:20260421T225626
CREATED:20240906T200726Z
LAST-MODIFIED:20240906T200726Z
UID:10000162-1738486800-1738515600@wildlife.dgf.nm.gov
SUMMARY:Hunter Education
DESCRIPTION:This course is open to students of any age seeking Hunter Education certification to meet hunting requirements in New Mexico. This course is an instructor-led\, student course that incorporates lecture\, video\, break-out sessions\, review methods and homework to educate students. Students 10 and under must have a parent/adult present with them during class. All students MUST complete the Today’s Hunter student manual homework before participating in class. Students can pick up a free hard copy manual at Clovis Wing Shooting Center\, 726 County Rd. 17\, Clovis\, NM 88101. The manual can also be downloaded for free at\, www.hunter-ed.com/newmexico/manual/. Students are required to turn in their completed manual worksheets upon arrival to class.
URL:https://wildlife.dgf.nm.gov/event/hunter-education-22/2025-02-02/
LOCATION:Clovis Wing Shooting Center\, 726 County Rd 17\, Clovis\, New Mexico
CATEGORIES:Education Events,Hunting Events
ATTACH;FMTTYPE=image/jpeg:https://wildlife.dgf.nm.gov/wp-content/uploads/2014/01/title-background-elk.jpg
ORGANIZER;CN="Eric Goodkowsky":MAILTO:egoodkow@aol.com
END:VEVENT
BEGIN:VEVENT
DTSTART;TZID=America/Denver:20250201T090000
DTEND;TZID=America/Denver:20250201T170000
DTSTAMP:20260421T225626
CREATED:20240906T200726Z
LAST-MODIFIED:20240906T200726Z
UID:10000161-1738400400-1738429200@wildlife.dgf.nm.gov
SUMMARY:Hunter Education
DESCRIPTION:This course is open to students of any age seeking Hunter Education certification to meet hunting requirements in New Mexico. This course is an instructor-led\, student course that incorporates lecture\, video\, break-out sessions\, review methods and homework to educate students. Students 10 and under must have a parent/adult present with them during class. All students MUST complete the Today’s Hunter student manual homework before participating in class. Students can pick up a free hard copy manual at Clovis Wing Shooting Center\, 726 County Rd. 17\, Clovis\, NM 88101. The manual can also be downloaded for free at\, www.hunter-ed.com/newmexico/manual/. Students are required to turn in their completed manual worksheets upon arrival to class.
URL:https://wildlife.dgf.nm.gov/event/hunter-education-22/2025-02-01/
LOCATION:Clovis Wing Shooting Center\, 726 County Rd 17\, Clovis\, New Mexico
CATEGORIES:Education Events,Hunting Events
ATTACH;FMTTYPE=image/jpeg:https://wildlife.dgf.nm.gov/wp-content/uploads/2014/01/title-background-elk.jpg
ORGANIZER;CN="Eric Goodkowsky":MAILTO:egoodkow@aol.com
END:VEVENT
BEGIN:VEVENT
DTSTART;TZID=America/Denver:20250105T090000
DTEND;TZID=America/Denver:20250105T170000
DTSTAMP:20260421T225626
CREATED:20240906T200855Z
LAST-MODIFIED:20240906T200855Z
UID:10000164-1736067600-1736096400@wildlife.dgf.nm.gov
SUMMARY:Hunter Education
DESCRIPTION:This course is open to students of any age seeking Hunter Education certification to meet hunting requirements in New Mexico. This course is an instructor-led\, student course that incorporates lecture\, video\, break-out sessions\, review methods and homework to educate students. Students 10 and under must have a parent/adult present with them during class. All students MUST complete the Today’s Hunter student manual homework before participating in class. Students can pick up a free hard copy manual at Clovis Wing Shooting Center\, 726 County Rd. 17\, Clovis\, NM 88101. The manual can also be downloaded for free at\, www.hunter-ed.com/newmexico/manual/. Students are required to turn in their completed manual worksheets upon arrival to class.
URL:https://wildlife.dgf.nm.gov/event/hunter-education-23/2025-01-05/
LOCATION:Clovis Wing Shooting Center\, 726 County Rd 17\, Clovis\, New Mexico
CATEGORIES:Education Events,Hunting Events
ATTACH;FMTTYPE=image/jpeg:https://wildlife.dgf.nm.gov/wp-content/uploads/2014/01/title-background-elk.jpg
ORGANIZER;CN="Eric Goodkowsky":MAILTO:egoodkow@aol.com
END:VEVENT
BEGIN:VEVENT
DTSTART;TZID=America/Denver:20250104T090000
DTEND;TZID=America/Denver:20250104T170000
DTSTAMP:20260421T225626
CREATED:20240906T200855Z
LAST-MODIFIED:20240906T200855Z
UID:10000163-1735981200-1736010000@wildlife.dgf.nm.gov
SUMMARY:Hunter Education
DESCRIPTION:This course is open to students of any age seeking Hunter Education certification to meet hunting requirements in New Mexico. This course is an instructor-led\, student course that incorporates lecture\, video\, break-out sessions\, review methods and homework to educate students. Students 10 and under must have a parent/adult present with them during class. All students MUST complete the Today’s Hunter student manual homework before participating in class. Students can pick up a free hard copy manual at Clovis Wing Shooting Center\, 726 County Rd. 17\, Clovis\, NM 88101. The manual can also be downloaded for free at\, www.hunter-ed.com/newmexico/manual/. Students are required to turn in their completed manual worksheets upon arrival to class.
URL:https://wildlife.dgf.nm.gov/event/hunter-education-23/2025-01-04/
LOCATION:Clovis Wing Shooting Center\, 726 County Rd 17\, Clovis\, New Mexico
CATEGORIES:Education Events,Hunting Events
ATTACH;FMTTYPE=image/jpeg:https://wildlife.dgf.nm.gov/wp-content/uploads/2014/01/title-background-elk.jpg
ORGANIZER;CN="Eric Goodkowsky":MAILTO:egoodkow@aol.com
END:VEVENT
BEGIN:VEVENT
DTSTART;TZID=America/Denver:20241208T090000
DTEND;TZID=America/Denver:20241208T170000
DTSTAMP:20260421T225626
CREATED:20240906T194747Z
LAST-MODIFIED:20240906T194747Z
UID:10000160-1733648400-1733677200@wildlife.dgf.nm.gov
SUMMARY:Hunter Education
DESCRIPTION:This course is open to students of any age seeking Hunter Education certification to meet hunting requirements in New Mexico. This course is an instructor-led\, student course that incorporates lecture\, video\, break-out sessions\, review methods and homework to educate students. Students 10 and under must have a parent/adult present with them during class. All students MUST complete the Today’s Hunter student manual homework before participating in class. Students can pick up a free hard copy manual at Clovis Wing Shooting Center\, 726 County Rd. 17\, Clovis\, NM 88101. The manual can also be downloaded for free at\, www.hunter-ed.com/newmexico/manual/. Students are required to turn in their completed manual worksheets upon arrival to class.
URL:https://wildlife.dgf.nm.gov/event/hunter-education-21/2024-12-08/
LOCATION:Clovis Wing Shooting Center\, 726 County Rd 17\, Clovis\, New Mexico
CATEGORIES:Education Events,Hunting Events
ATTACH;FMTTYPE=image/jpeg:https://wildlife.dgf.nm.gov/wp-content/uploads/2014/01/title-background-elk.jpg
ORGANIZER;CN="Eric Goodkowsky":MAILTO:egoodkow@aol.com
END:VEVENT
BEGIN:VEVENT
DTSTART;TZID=America/Denver:20241207T090000
DTEND;TZID=America/Denver:20241207T170000
DTSTAMP:20260421T225626
CREATED:20240906T194747Z
LAST-MODIFIED:20240906T194747Z
UID:10000159-1733562000-1733590800@wildlife.dgf.nm.gov
SUMMARY:Hunter Education
DESCRIPTION:This course is open to students of any age seeking Hunter Education certification to meet hunting requirements in New Mexico. This course is an instructor-led\, student course that incorporates lecture\, video\, break-out sessions\, review methods and homework to educate students. Students 10 and under must have a parent/adult present with them during class. All students MUST complete the Today’s Hunter student manual homework before participating in class. Students can pick up a free hard copy manual at Clovis Wing Shooting Center\, 726 County Rd. 17\, Clovis\, NM 88101. The manual can also be downloaded for free at\, www.hunter-ed.com/newmexico/manual/. Students are required to turn in their completed manual worksheets upon arrival to class.
URL:https://wildlife.dgf.nm.gov/event/hunter-education-21/2024-12-07/
LOCATION:Clovis Wing Shooting Center\, 726 County Rd 17\, Clovis\, New Mexico
CATEGORIES:Education Events,Hunting Events
ATTACH;FMTTYPE=image/jpeg:https://wildlife.dgf.nm.gov/wp-content/uploads/2014/01/title-background-elk.jpg
ORGANIZER;CN="Eric Goodkowsky":MAILTO:egoodkow@aol.com
END:VEVENT
BEGIN:VEVENT
DTSTART;TZID=America/Denver:20241103T090000
DTEND;TZID=America/Denver:20241103T170000
DTSTAMP:20260421T225626
CREATED:20240906T201222Z
LAST-MODIFIED:20240906T201222Z
UID:10000168-1730624400-1730653200@wildlife.dgf.nm.gov
SUMMARY:Hunter Education
DESCRIPTION:This course is open to students of any age seeking Hunter Education certification to meet hunting requirements in New Mexico. This course is an instructor-led\, student course that incorporates lecture\, video\, break-out sessions\, review methods and homework to educate students. Students 10 and under must have a parent/adult present with them during class. All students MUST complete the Today’s Hunter student manual homework before participating in class. Students can pick up a free hard copy manual at Clovis Wing Shooting Center\, 726 County Rd. 17\, Clovis\, NM 88101. The manual can also be downloaded for free at\, www.hunter-ed.com/newmexico/manual/. Students are required to turn in their completed manual worksheets upon arrival to class.
URL:https://wildlife.dgf.nm.gov/event/hunter-education-25/2024-11-03/
LOCATION:Clovis Wing Shooting Center\, 726 County Rd 17\, Clovis\, New Mexico
CATEGORIES:Education Events,Hunting Events
ATTACH;FMTTYPE=image/jpeg:https://wildlife.dgf.nm.gov/wp-content/uploads/2014/01/title-background-elk.jpg
ORGANIZER;CN="Eric Goodkowsky":MAILTO:egoodkow@aol.com
END:VEVENT
BEGIN:VEVENT
DTSTART;TZID=America/Denver:20241102T090000
DTEND;TZID=America/Denver:20241102T170000
DTSTAMP:20260421T225626
CREATED:20240906T201222Z
LAST-MODIFIED:20240906T201222Z
UID:10000167-1730538000-1730566800@wildlife.dgf.nm.gov
SUMMARY:Hunter Education
DESCRIPTION:This course is open to students of any age seeking Hunter Education certification to meet hunting requirements in New Mexico. This course is an instructor-led\, student course that incorporates lecture\, video\, break-out sessions\, review methods and homework to educate students. Students 10 and under must have a parent/adult present with them during class. All students MUST complete the Today’s Hunter student manual homework before participating in class. Students can pick up a free hard copy manual at Clovis Wing Shooting Center\, 726 County Rd. 17\, Clovis\, NM 88101. The manual can also be downloaded for free at\, www.hunter-ed.com/newmexico/manual/. Students are required to turn in their completed manual worksheets upon arrival to class.
URL:https://wildlife.dgf.nm.gov/event/hunter-education-25/2024-11-02/
LOCATION:Clovis Wing Shooting Center\, 726 County Rd 17\, Clovis\, New Mexico
CATEGORIES:Education Events,Hunting Events
ATTACH;FMTTYPE=image/jpeg:https://wildlife.dgf.nm.gov/wp-content/uploads/2014/01/title-background-elk.jpg
ORGANIZER;CN="Eric Goodkowsky":MAILTO:egoodkow@aol.com
END:VEVENT
BEGIN:VEVENT
DTSTART;TZID=America/Denver:20241006T090000
DTEND;TZID=America/Denver:20241006T170000
DTSTAMP:20260421T225626
CREATED:20240906T201437Z
LAST-MODIFIED:20240906T201437Z
UID:10000170-1728205200-1728234000@wildlife.dgf.nm.gov
SUMMARY:Hunter Education
DESCRIPTION:This course is open to students of any age seeking Hunter Education certification to meet hunting requirements in New Mexico. This course is an instructor-led\, student course that incorporates lecture\, video\, break-out sessions\, review methods and homework to educate students. Students 10 and under must have a parent/adult present with them during class. All students MUST complete the Today’s Hunter student manual homework before participating in class. Students can pick up a free hard copy manual at Clovis Wing Shooting Center\, 726 County Rd. 17\, Clovis\, NM 88101. The manual can also be downloaded for free at\, www.hunter-ed.com/newmexico/manual/. Students are required to turn in their completed manual worksheets upon arrival to class.
URL:https://wildlife.dgf.nm.gov/event/hunter-education-26/2024-10-06/
LOCATION:Clovis Wing Shooting Center\, 726 County Rd 17\, Clovis\, New Mexico
CATEGORIES:Education Events,Hunting Events
ATTACH;FMTTYPE=image/jpeg:https://wildlife.dgf.nm.gov/wp-content/uploads/2014/01/title-background-elk.jpg
ORGANIZER;CN="Eric Goodkowsky":MAILTO:egoodkow@aol.com
END:VEVENT
BEGIN:VEVENT
DTSTART;TZID=America/Denver:20241005T090000
DTEND;TZID=America/Denver:20241005T170000
DTSTAMP:20260421T225626
CREATED:20240906T201437Z
LAST-MODIFIED:20240906T201437Z
UID:10000169-1728118800-1728147600@wildlife.dgf.nm.gov
SUMMARY:Hunter Education
DESCRIPTION:This course is open to students of any age seeking Hunter Education certification to meet hunting requirements in New Mexico. This course is an instructor-led\, student course that incorporates lecture\, video\, break-out sessions\, review methods and homework to educate students. Students 10 and under must have a parent/adult present with them during class. All students MUST complete the Today’s Hunter student manual homework before participating in class. Students can pick up a free hard copy manual at Clovis Wing Shooting Center\, 726 County Rd. 17\, Clovis\, NM 88101. The manual can also be downloaded for free at\, www.hunter-ed.com/newmexico/manual/. Students are required to turn in their completed manual worksheets upon arrival to class.
URL:https://wildlife.dgf.nm.gov/event/hunter-education-26/2024-10-05/
LOCATION:Clovis Wing Shooting Center\, 726 County Rd 17\, Clovis\, New Mexico
CATEGORIES:Education Events,Hunting Events
ATTACH;FMTTYPE=image/jpeg:https://wildlife.dgf.nm.gov/wp-content/uploads/2014/01/title-background-elk.jpg
ORGANIZER;CN="Eric Goodkowsky":MAILTO:egoodkow@aol.com
END:VEVENT
BEGIN:VEVENT
DTSTART;TZID=America/Denver:20240922T090000
DTEND;TZID=America/Denver:20240922T170000
DTSTAMP:20260421T225626
CREATED:20240906T194555Z
LAST-MODIFIED:20240906T194555Z
UID:10000158-1726995600-1727024400@wildlife.dgf.nm.gov
SUMMARY:Hunter Education
DESCRIPTION:This course is open to students of any age seeking Hunter Education certification to meet hunting requirements in New Mexico. This course is an instructor-led\, student course that incorporates lecture\, video\, break-out sessions\, review methods and homework to educate students. Students 10 and under must have a parent/adult present with them during class. All students MUST complete the Today’s Hunter student manual homework before participating in class. Students can pick up a free hard copy manual at Clovis Wing Shooting Center\, 726 County Rd. 17\, Clovis\, NM 88101. The manual can also be downloaded for free at\, www.hunter-ed.com/newmexico/manual/. Students are required to turn in their completed manual worksheets upon arrival to class.
URL:https://wildlife.dgf.nm.gov/event/hunter-education-20/2024-09-22/
LOCATION:Clovis Wing Shooting Center\, 726 County Rd 17\, Clovis\, New Mexico
CATEGORIES:Education Events,Hunting Events
ATTACH;FMTTYPE=image/jpeg:https://wildlife.dgf.nm.gov/wp-content/uploads/2014/01/title-background-elk.jpg
ORGANIZER;CN="Eric Goodkowsky":MAILTO:egoodkow@aol.com
END:VEVENT
BEGIN:VEVENT
DTSTART;TZID=America/Denver:20240921T090000
DTEND;TZID=America/Denver:20240921T170000
DTSTAMP:20260421T225626
CREATED:20240906T194555Z
LAST-MODIFIED:20240906T194555Z
UID:10000157-1726909200-1726938000@wildlife.dgf.nm.gov
SUMMARY:Hunter Education
DESCRIPTION:This course is open to students of any age seeking Hunter Education certification to meet hunting requirements in New Mexico. This course is an instructor-led\, student course that incorporates lecture\, video\, break-out sessions\, review methods and homework to educate students. Students 10 and under must have a parent/adult present with them during class. All students MUST complete the Today’s Hunter student manual homework before participating in class. Students can pick up a free hard copy manual at Clovis Wing Shooting Center\, 726 County Rd. 17\, Clovis\, NM 88101. The manual can also be downloaded for free at\, www.hunter-ed.com/newmexico/manual/. Students are required to turn in their completed manual worksheets upon arrival to class.
URL:https://wildlife.dgf.nm.gov/event/hunter-education-20/2024-09-21/
LOCATION:Clovis Wing Shooting Center\, 726 County Rd 17\, Clovis\, New Mexico
CATEGORIES:Education Events,Hunting Events
ATTACH;FMTTYPE=image/jpeg:https://wildlife.dgf.nm.gov/wp-content/uploads/2014/01/title-background-elk.jpg
ORGANIZER;CN="Eric Goodkowsky":MAILTO:egoodkow@aol.com
END:VEVENT
END:VCALENDAR