BEGIN:VCALENDAR
VERSION:2.0
PRODID:-//NMDGF - ECPv6.15.18//NONSGML v1.0//EN
CALSCALE:GREGORIAN
METHOD:PUBLISH
X-ORIGINAL-URL:https://wildlife.dgf.nm.gov
X-WR-CALDESC:Events for NMDGF
REFRESH-INTERVAL;VALUE=DURATION:PT1H
X-Robots-Tag:noindex
X-PUBLISHED-TTL:PT1H
BEGIN:VTIMEZONE
TZID:America/Denver
BEGIN:DAYLIGHT
TZOFFSETFROM:-0700
TZOFFSETTO:-0600
TZNAME:MDT
DTSTART:20230312T090000
END:DAYLIGHT
BEGIN:STANDARD
TZOFFSETFROM:-0600
TZOFFSETTO:-0700
TZNAME:MST
DTSTART:20231105T080000
END:STANDARD
BEGIN:DAYLIGHT
TZOFFSETFROM:-0700
TZOFFSETTO:-0600
TZNAME:MDT
DTSTART:20240310T090000
END:DAYLIGHT
BEGIN:STANDARD
TZOFFSETFROM:-0600
TZOFFSETTO:-0700
TZNAME:MST
DTSTART:20241103T080000
END:STANDARD
BEGIN:DAYLIGHT
TZOFFSETFROM:-0700
TZOFFSETTO:-0600
TZNAME:MDT
DTSTART:20250309T090000
END:DAYLIGHT
BEGIN:STANDARD
TZOFFSETFROM:-0600
TZOFFSETTO:-0700
TZNAME:MST
DTSTART:20251102T080000
END:STANDARD
END:VTIMEZONE
BEGIN:VEVENT
DTSTART;TZID=America/Denver:20240825T090000
DTEND;TZID=America/Denver:20240825T160000
DTSTAMP:20260425T203223
CREATED:20240723T214752Z
LAST-MODIFIED:20240723T214752Z
UID:10000106-1724576400-1724601600@wildlife.dgf.nm.gov
SUMMARY:Hunter Education
DESCRIPTION:This course is open to students of any age seeking hunter education certification to meet hunting requirements in New Mexico. This course is an instructor-led student course that incorporates lecture\, video\, break-out sessions\, review methods and homework to educate students. Students 10 and under must have a parent/adult present with them during class. All students MUST complete the Today’s Hunter student manual homework before participating in class. Students can pick up a free hard copy manual at the NM Game and Fish Southeast Area Office\, 1615 W. College Blvd.\, Roswell\, NM 88203. The manual can also be downloaded for free at www.hunter-ed.com/newmexico/manual/. Students are required to turn in their completed manual worksheets upon arrival to class. \nRegistration opens on Aug. 5 and is conducted online through the student’s Customer ID Number (CIN) Account. Once in the account\, click on Hunter Education then click the Register for Hunter Ed Classes button and follow the prompts.
URL:https://wildlife.dgf.nm.gov/event/hunter-education-12/2024-08-25/
LOCATION:Department of Game and Fish Roswell Office\, 1615 W. College Blvd\, Roswell\, New Mexico
CATEGORIES:Hunting Events
ATTACH;FMTTYPE=image/png:https://wildlife.dgf.nm.gov/wp-content/uploads/2013/11/bear-title-background.png
ORGANIZER;CN="Drew Garnett":MAILTO:dgarnett@msn.edu
END:VEVENT
BEGIN:VEVENT
DTSTART;TZID=America/Denver:20240824T090000
DTEND;TZID=America/Denver:20240824T170000
DTSTAMP:20260425T203223
CREATED:20240723T214752Z
LAST-MODIFIED:20240723T214752Z
UID:10000105-1724490000-1724518800@wildlife.dgf.nm.gov
SUMMARY:Hunter Education
DESCRIPTION:This course is open to students of any age seeking hunter education certification to meet hunting requirements in New Mexico. This course is an instructor-led student course that incorporates lecture\, video\, break-out sessions\, review methods and homework to educate students. Students 10 and under must have a parent/adult present with them during class. All students MUST complete the Today’s Hunter student manual homework before participating in class. Students can pick up a free hard copy manual at the NM Game and Fish Southeast Area Office\, 1615 W. College Blvd.\, Roswell\, NM 88203. The manual can also be downloaded for free at www.hunter-ed.com/newmexico/manual/. Students are required to turn in their completed manual worksheets upon arrival to class. \nRegistration opens on Aug. 5 and is conducted online through the student’s Customer ID Number (CIN) Account. Once in the account\, click on Hunter Education then click the Register for Hunter Ed Classes button and follow the prompts.
URL:https://wildlife.dgf.nm.gov/event/hunter-education-12/2024-08-24/
LOCATION:Department of Game and Fish Roswell Office\, 1615 W. College Blvd\, Roswell\, New Mexico
CATEGORIES:Hunting Events
ATTACH;FMTTYPE=image/png:https://wildlife.dgf.nm.gov/wp-content/uploads/2013/11/bear-title-background.png
ORGANIZER;CN="Drew Garnett":MAILTO:dgarnett@msn.edu
END:VEVENT
END:VCALENDAR