BEGIN:VCALENDAR
VERSION:2.0
PRODID:-//NMDGF - ECPv6.15.18//NONSGML v1.0//EN
CALSCALE:GREGORIAN
METHOD:PUBLISH
X-WR-CALNAME:NMDGF
X-ORIGINAL-URL:https://wildlife.dgf.nm.gov
X-WR-CALDESC:Events for NMDGF
REFRESH-INTERVAL;VALUE=DURATION:PT1H
X-Robots-Tag:noindex
X-PUBLISHED-TTL:PT1H
BEGIN:VTIMEZONE
TZID:America/Denver
BEGIN:DAYLIGHT
TZOFFSETFROM:-0700
TZOFFSETTO:-0600
TZNAME:MDT
DTSTART:20240310T090000
END:DAYLIGHT
BEGIN:STANDARD
TZOFFSETFROM:-0600
TZOFFSETTO:-0700
TZNAME:MST
DTSTART:20241103T080000
END:STANDARD
BEGIN:DAYLIGHT
TZOFFSETFROM:-0700
TZOFFSETTO:-0600
TZNAME:MDT
DTSTART:20250309T090000
END:DAYLIGHT
BEGIN:STANDARD
TZOFFSETFROM:-0600
TZOFFSETTO:-0700
TZNAME:MST
DTSTART:20251102T080000
END:STANDARD
BEGIN:DAYLIGHT
TZOFFSETFROM:-0700
TZOFFSETTO:-0600
TZNAME:MDT
DTSTART:20260308T090000
END:DAYLIGHT
BEGIN:STANDARD
TZOFFSETFROM:-0600
TZOFFSETTO:-0700
TZNAME:MST
DTSTART:20261101T080000
END:STANDARD
END:VTIMEZONE
BEGIN:VEVENT
DTSTART;TZID=America/Denver:20251124T180000
DTEND;TZID=America/Denver:20251124T210000
DTSTAMP:20260421T041217
CREATED:20251113T230845Z
LAST-MODIFIED:20251113T230845Z
UID:10000608-1764007200-1764018000@wildlife.dgf.nm.gov
SUMMARY:Hunter Education
DESCRIPTION:This course is open to students of any age seeking hunter education certification to meet hunting requirements in New Mexico. This course is an instructor-led student course that incorporates lecture\, video\, break-out sessions\, review methods and homework to educate students. Students 10 and under must have a parent/adult present with them during class. All students MUST complete the Today’s Hunter student manual homework before participating in class. Students can pick up a free hard copy manual at Eunice Pump & Supply\, 321 N Main\, Lovington\, NM. The manual can also be downloaded for free at www.hunter-ed.com/newmexico/manual/. Students are required to turn in their completed manual worksheets upon arrival to class. \nRegistration opens at 9 a.m. on Oct. 3 and is conducted online through the student’s Customer ID Number (CIN) Account. Once in the account\, click on Hunter Education then click the Register for Hunter Ed Classes button and follow the prompts.     
URL:https://wildlife.dgf.nm.gov/event/hunter-education-80/2025-11-24/
LOCATION:600 South 9th\, 600 South 9th\, Lovington\, New Mexico
CATEGORIES:Education Events,Hunting Events
ATTACH;FMTTYPE=image/jpeg:https://wildlife.dgf.nm.gov/wp-content/uploads/2014/01/title-background-elk.jpg
ORGANIZER;CN="Chandonette Kneese":MAILTO:chandykneese01@gmail.com
END:VEVENT
BEGIN:VEVENT
DTSTART;TZID=America/Denver:20251025T080000
DTEND;TZID=America/Denver:20251025T160000
DTSTAMP:20260421T041218
CREATED:20251113T230845Z
LAST-MODIFIED:20251113T230845Z
UID:10000607-1761379200-1761408000@wildlife.dgf.nm.gov
SUMMARY:Hunter Education
DESCRIPTION:This course is open to students of any age seeking hunter education certification to meet hunting requirements in New Mexico. This course is an instructor-led student course that incorporates lecture\, video\, break-out sessions\, review methods and homework to educate students. Students 10 and under must have a parent/adult present with them during class. All students MUST complete the Today’s Hunter student manual homework before participating in class. Students can pick up a free hard copy manual at Eunice Pump & Supply\, 321 N Main\, Lovington\, NM. The manual can also be downloaded for free at www.hunter-ed.com/newmexico/manual/. Students are required to turn in their completed manual worksheets upon arrival to class. \nRegistration opens at 9 a.m. on Oct. 3 and is conducted online through the student’s Customer ID Number (CIN) Account. Once in the account\, click on Hunter Education then click the Register for Hunter Ed Classes button and follow the prompts.     
URL:https://wildlife.dgf.nm.gov/event/hunter-education-80/2025-10-25/
LOCATION:600 South 9th\, 600 South 9th\, Lovington\, New Mexico
CATEGORIES:Education Events,Hunting Events
ATTACH;FMTTYPE=image/jpeg:https://wildlife.dgf.nm.gov/wp-content/uploads/2014/01/title-background-elk.jpg
ORGANIZER;CN="Chandonette Kneese":MAILTO:chandykneese01@gmail.com
END:VEVENT
BEGIN:VEVENT
DTSTART;TZID=America/Denver:20250222T080000
DTEND;TZID=America/Denver:20250222T160000
DTSTAMP:20260421T041218
CREATED:20250203T182237Z
LAST-MODIFIED:20250203T182237Z
UID:10000357-1740211200-1740240000@wildlife.dgf.nm.gov
SUMMARY:Hunter Education
DESCRIPTION:This course is open to students of any age seeking hunter education certification to meet hunting requirements in New Mexico. This course is an instructor-led student course that incorporates lecture\, video\, break-out sessions\,  review methods and homework to educate students. Students 10 and under must have a parent/adult present with them during class. All students MUST complete the Today’s Hunter student manual homework before participating in class. Students can pick up a free hard copy manual at Eunice Pump & Supply\, 321 N Main\, Lovington\, NM. The manual can also be downloaded for free at\, www.hunter-ed.com/newmexico/manual/. Students are required to turn in their completed manual worksheets upon arrival to class. \nRegistration opens at 9 a.m. on February 3rd and is conducted online through the students Customer Id Number (CIN) Account. Once in the account\, click on Hunter Education then click the Register for Hunter Ed Classes button and follow the prompts.     
URL:https://wildlife.dgf.nm.gov/event/hunter-education-60/2025-02-22/
LOCATION:600 South 9th\, 600 South 9th\, Lovington\, New Mexico
CATEGORIES:Hunting Events
ATTACH;FMTTYPE=image/jpeg:https://wildlife.dgf.nm.gov/wp-content/uploads/2014/01/title-background-elk.jpg
ORGANIZER;CN="Chandonette Kneese":MAILTO:chandykneese01@gmail.com
END:VEVENT
BEGIN:VEVENT
DTSTART;TZID=America/Denver:20250221T180000
DTEND;TZID=America/Denver:20250221T210000
DTSTAMP:20260421T041218
CREATED:20250203T182237Z
LAST-MODIFIED:20250203T182237Z
UID:10000356-1740160800-1740171600@wildlife.dgf.nm.gov
SUMMARY:Hunter Education
DESCRIPTION:This course is open to students of any age seeking hunter education certification to meet hunting requirements in New Mexico. This course is an instructor-led student course that incorporates lecture\, video\, break-out sessions\,  review methods and homework to educate students. Students 10 and under must have a parent/adult present with them during class. All students MUST complete the Today’s Hunter student manual homework before participating in class. Students can pick up a free hard copy manual at Eunice Pump & Supply\, 321 N Main\, Lovington\, NM. The manual can also be downloaded for free at\, www.hunter-ed.com/newmexico/manual/. Students are required to turn in their completed manual worksheets upon arrival to class. \nRegistration opens at 9 a.m. on February 3rd and is conducted online through the students Customer Id Number (CIN) Account. Once in the account\, click on Hunter Education then click the Register for Hunter Ed Classes button and follow the prompts.     
URL:https://wildlife.dgf.nm.gov/event/hunter-education-60/2025-02-21/
LOCATION:600 South 9th\, 600 South 9th\, Lovington\, New Mexico
CATEGORIES:Hunting Events
ATTACH;FMTTYPE=image/jpeg:https://wildlife.dgf.nm.gov/wp-content/uploads/2014/01/title-background-elk.jpg
ORGANIZER;CN="Chandonette Kneese":MAILTO:chandykneese01@gmail.com
END:VEVENT
BEGIN:VEVENT
DTSTART;TZID=America/Denver:20250104T080000
DTEND;TZID=America/Denver:20250104T160000
DTSTAMP:20260421T041218
CREATED:20241120T211838Z
LAST-MODIFIED:20241120T211838Z
UID:10000264-1735977600-1736006400@wildlife.dgf.nm.gov
SUMMARY:Hunter Education
DESCRIPTION:This course is open to students of any age seeking hunter education certification to meet hunting requirements in New Mexico. This course is an instructor-led student course that incorporates lecture\, video\, break-out sessions\, review methods and homework to educate students. Students 10 and under must have a parent/adult present with them during class. All students MUST complete the Today’s Hunter student manual homework before participating in class. Students can pick up a free hard-copy manual at Eunice Pump & Supply\, 321 N Main\, Lovington\, NM. The manual can also be downloaded for free at www.hunter-ed.com/newmexico/manual/. Students are required to turn in their completed manual worksheets upon arrival to class. \n  \nRegistration opens at 9 a.m. on Dec. 16 and is conducted online through the student’s Customer ID Number (CIN) Account. Once in the account\, click on Hunter Education then click the Register for Hunter Ed Classes button and follow the prompts.
URL:https://wildlife.dgf.nm.gov/event/hunter-education-34/2025-01-04/
LOCATION:Lea County Fairgrounds\, Yucca Bldg 101 S Commercial\, Lovington\, New Mexico
CATEGORIES:Hunting Events
ATTACH;FMTTYPE=image/jpeg:https://wildlife.dgf.nm.gov/wp-content/uploads/2014/01/title-background-le.jpg
ORGANIZER;CN="Chandonette Kneese":MAILTO:chandykneese01@gmail.com
END:VEVENT
BEGIN:VEVENT
DTSTART;TZID=America/Denver:20250103T180000
DTEND;TZID=America/Denver:20250103T210000
DTSTAMP:20260421T041218
CREATED:20241120T211838Z
LAST-MODIFIED:20241120T211838Z
UID:10000263-1735927200-1735938000@wildlife.dgf.nm.gov
SUMMARY:Hunter Education
DESCRIPTION:This course is open to students of any age seeking hunter education certification to meet hunting requirements in New Mexico. This course is an instructor-led student course that incorporates lecture\, video\, break-out sessions\, review methods and homework to educate students. Students 10 and under must have a parent/adult present with them during class. All students MUST complete the Today’s Hunter student manual homework before participating in class. Students can pick up a free hard-copy manual at Eunice Pump & Supply\, 321 N Main\, Lovington\, NM. The manual can also be downloaded for free at www.hunter-ed.com/newmexico/manual/. Students are required to turn in their completed manual worksheets upon arrival to class. \n  \nRegistration opens at 9 a.m. on Dec. 16 and is conducted online through the student’s Customer ID Number (CIN) Account. Once in the account\, click on Hunter Education then click the Register for Hunter Ed Classes button and follow the prompts.
URL:https://wildlife.dgf.nm.gov/event/hunter-education-34/2025-01-03/
LOCATION:Lea County Fairgrounds\, Yucca Bldg 101 S Commercial\, Lovington\, New Mexico
CATEGORIES:Hunting Events
ATTACH;FMTTYPE=image/jpeg:https://wildlife.dgf.nm.gov/wp-content/uploads/2014/01/title-background-le.jpg
ORGANIZER;CN="Chandonette Kneese":MAILTO:chandykneese01@gmail.com
END:VEVENT
END:VCALENDAR