BEGIN:VCALENDAR
VERSION:2.0
PRODID:-//NMDGF - ECPv6.15.18//NONSGML v1.0//EN
CALSCALE:GREGORIAN
METHOD:PUBLISH
X-ORIGINAL-URL:https://wildlife.dgf.nm.gov
X-WR-CALDESC:Events for NMDGF
REFRESH-INTERVAL;VALUE=DURATION:PT1H
X-Robots-Tag:noindex
X-PUBLISHED-TTL:PT1H
BEGIN:VTIMEZONE
TZID:America/Denver
BEGIN:DAYLIGHT
TZOFFSETFROM:-0700
TZOFFSETTO:-0600
TZNAME:MDT
DTSTART:20240310T090000
END:DAYLIGHT
BEGIN:STANDARD
TZOFFSETFROM:-0600
TZOFFSETTO:-0700
TZNAME:MST
DTSTART:20241103T080000
END:STANDARD
BEGIN:DAYLIGHT
TZOFFSETFROM:-0700
TZOFFSETTO:-0600
TZNAME:MDT
DTSTART:20250309T090000
END:DAYLIGHT
BEGIN:STANDARD
TZOFFSETFROM:-0600
TZOFFSETTO:-0700
TZNAME:MST
DTSTART:20251102T080000
END:STANDARD
BEGIN:DAYLIGHT
TZOFFSETFROM:-0700
TZOFFSETTO:-0600
TZNAME:MDT
DTSTART:20260308T090000
END:DAYLIGHT
BEGIN:STANDARD
TZOFFSETFROM:-0600
TZOFFSETTO:-0700
TZNAME:MST
DTSTART:20261101T080000
END:STANDARD
END:VTIMEZONE
BEGIN:VEVENT
DTSTART;TZID=America/Denver:20250713T080000
DTEND;TZID=America/Denver:20250713T170000
DTSTAMP:20260420T014045
CREATED:20250702T202026Z
LAST-MODIFIED:20250702T202026Z
UID:10000490-1752393600-1752426000@wildlife.dgf.nm.gov
SUMMARY:Hunter Education
DESCRIPTION:This course is open to students of any age seeking hunter education certification to meet hunting requirements in New Mexico. This course is an instructor-led student course that incorporates lecture\, video\, break-out sessions\, review methods and homework to educate students. Students 10 and under must have a parent/adult present with them during class. All students MUST complete the Today’s Hunter student manual homework before participating in class. Students can pick up a free hard copy manual at the NM Game and Fish Southeast Area Office\, 1615 W. College Blvd.\, Roswell\, NM 88203. The manual can also be downloaded for free at www.hunter-ed.com/newmexico/manual/. Students are required to turn in their completed manual worksheets upon arrival to class. \nRegistration opens on June 30 and is conducted online through the student’s Customer ID Number (CIN) Account. Once in the account\, click on Hunter Education then click the Register for Hunter Ed Classes button and follow the prompts.
URL:https://wildlife.dgf.nm.gov/event/hunter-education-74/2025-07-13/
LOCATION:Department of Game and Fish Roswell Office\, 1615 W. College Blvd\, Roswell\, New Mexico
CATEGORIES:Education Events,Hunting Events
ATTACH;FMTTYPE=image/jpeg:https://wildlife.dgf.nm.gov/wp-content/uploads/2014/01/title-background-elk.jpg
ORGANIZER;CN="Amanda Long":MAILTO:amanda.long@dgf.nm.gov
END:VEVENT
BEGIN:VEVENT
DTSTART;TZID=America/Denver:20250712T080000
DTEND;TZID=America/Denver:20250712T170000
DTSTAMP:20260420T014045
CREATED:20250702T202026Z
LAST-MODIFIED:20250702T202026Z
UID:10000489-1752307200-1752339600@wildlife.dgf.nm.gov
SUMMARY:Hunter Education
DESCRIPTION:This course is open to students of any age seeking hunter education certification to meet hunting requirements in New Mexico. This course is an instructor-led student course that incorporates lecture\, video\, break-out sessions\, review methods and homework to educate students. Students 10 and under must have a parent/adult present with them during class. All students MUST complete the Today’s Hunter student manual homework before participating in class. Students can pick up a free hard copy manual at the NM Game and Fish Southeast Area Office\, 1615 W. College Blvd.\, Roswell\, NM 88203. The manual can also be downloaded for free at www.hunter-ed.com/newmexico/manual/. Students are required to turn in their completed manual worksheets upon arrival to class. \nRegistration opens on June 30 and is conducted online through the student’s Customer ID Number (CIN) Account. Once in the account\, click on Hunter Education then click the Register for Hunter Ed Classes button and follow the prompts.
URL:https://wildlife.dgf.nm.gov/event/hunter-education-74/2025-07-12/
LOCATION:Department of Game and Fish Roswell Office\, 1615 W. College Blvd\, Roswell\, New Mexico
CATEGORIES:Education Events,Hunting Events
ATTACH;FMTTYPE=image/jpeg:https://wildlife.dgf.nm.gov/wp-content/uploads/2014/01/title-background-elk.jpg
ORGANIZER;CN="Amanda Long":MAILTO:amanda.long@dgf.nm.gov
END:VEVENT
BEGIN:VEVENT
DTSTART;TZID=America/Denver:20250126T080000
DTEND;TZID=America/Denver:20250126T170000
DTSTAMP:20260420T014045
CREATED:20250106T213948Z
LAST-MODIFIED:20250106T213948Z
UID:10000298-1737878400-1737910800@wildlife.dgf.nm.gov
SUMMARY:Hunter Education
DESCRIPTION:This course is open to students of any age seeking hunter education certification to meet hunting requirements in New Mexico. This course is an instructor-led student course that incorporates lecture\, video\, break-out sessions\, review methods and homework to educate students. Students 10 and under must have a parent/adult present with them during class. All students MUST complete the Today’s Hunter student manual homework before participating in class. Students can pick up a free hard copy manual at NM Game and Fish Office\, 1615 W College Blvd. Roswell\, NM 88203. The manual can also be downloaded for free at\, www.hunter-ed.com/newmexico/manual/. Students are required to turn in their completed manual worksheets upon arrival to class. \nRegistration opens on January 2nd and is conducted online through the students Customer Id Number (CIN) Account. Once in the account\, click on Hunter Education then click the Register for Hunter Ed Classes button and follow the prompts.
URL:https://wildlife.dgf.nm.gov/event/hunter-education-38/2025-01-26/
LOCATION:Department of Game and Fish Roswell Office\, 1615 W. College Blvd\, Roswell\, New Mexico
CATEGORIES:Education Events,Hunting Events
ATTACH;FMTTYPE=image/jpeg:https://wildlife.dgf.nm.gov/wp-content/uploads/2014/01/title-background-elk.jpg
ORGANIZER;CN="Amanda Long":MAILTO:amanda.long@dgf.nm.gov
END:VEVENT
BEGIN:VEVENT
DTSTART;TZID=America/Denver:20250125T080000
DTEND;TZID=America/Denver:20250125T170000
DTSTAMP:20260420T014045
CREATED:20250106T213948Z
LAST-MODIFIED:20250106T213948Z
UID:10000297-1737792000-1737824400@wildlife.dgf.nm.gov
SUMMARY:Hunter Education
DESCRIPTION:This course is open to students of any age seeking hunter education certification to meet hunting requirements in New Mexico. This course is an instructor-led student course that incorporates lecture\, video\, break-out sessions\, review methods and homework to educate students. Students 10 and under must have a parent/adult present with them during class. All students MUST complete the Today’s Hunter student manual homework before participating in class. Students can pick up a free hard copy manual at NM Game and Fish Office\, 1615 W College Blvd. Roswell\, NM 88203. The manual can also be downloaded for free at\, www.hunter-ed.com/newmexico/manual/. Students are required to turn in their completed manual worksheets upon arrival to class. \nRegistration opens on January 2nd and is conducted online through the students Customer Id Number (CIN) Account. Once in the account\, click on Hunter Education then click the Register for Hunter Ed Classes button and follow the prompts.
URL:https://wildlife.dgf.nm.gov/event/hunter-education-38/2025-01-25/
LOCATION:Department of Game and Fish Roswell Office\, 1615 W. College Blvd\, Roswell\, New Mexico
CATEGORIES:Education Events,Hunting Events
ATTACH;FMTTYPE=image/jpeg:https://wildlife.dgf.nm.gov/wp-content/uploads/2014/01/title-background-elk.jpg
ORGANIZER;CN="Amanda Long":MAILTO:amanda.long@dgf.nm.gov
END:VEVENT
END:VCALENDAR