BEGIN:VCALENDAR
VERSION:2.0
PRODID:-//NMDGF - ECPv6.15.18//NONSGML v1.0//EN
CALSCALE:GREGORIAN
METHOD:PUBLISH
X-ORIGINAL-URL:https://wildlife.dgf.nm.gov
X-WR-CALDESC:Events for NMDGF
REFRESH-INTERVAL;VALUE=DURATION:PT1H
X-Robots-Tag:noindex
X-PUBLISHED-TTL:PT1H
BEGIN:VTIMEZONE
TZID:America/Denver
BEGIN:DAYLIGHT
TZOFFSETFROM:-0700
TZOFFSETTO:-0600
TZNAME:MDT
DTSTART:20240310T090000
END:DAYLIGHT
BEGIN:STANDARD
TZOFFSETFROM:-0600
TZOFFSETTO:-0700
TZNAME:MST
DTSTART:20241103T080000
END:STANDARD
BEGIN:DAYLIGHT
TZOFFSETFROM:-0700
TZOFFSETTO:-0600
TZNAME:MDT
DTSTART:20250309T090000
END:DAYLIGHT
BEGIN:STANDARD
TZOFFSETFROM:-0600
TZOFFSETTO:-0700
TZNAME:MST
DTSTART:20251102T080000
END:STANDARD
BEGIN:DAYLIGHT
TZOFFSETFROM:-0700
TZOFFSETTO:-0600
TZNAME:MDT
DTSTART:20260308T090000
END:DAYLIGHT
BEGIN:STANDARD
TZOFFSETFROM:-0600
TZOFFSETTO:-0700
TZNAME:MST
DTSTART:20261101T080000
END:STANDARD
END:VTIMEZONE
BEGIN:VEVENT
DTSTART;TZID=America/Denver:20251108T090000
DTEND;TZID=America/Denver:20251108T170000
DTSTAMP:20260423T223935
CREATED:20251113T230147Z
LAST-MODIFIED:20251113T230147Z
UID:10000604-1762592400-1762621200@wildlife.dgf.nm.gov
SUMMARY:Hunter Education
DESCRIPTION:This course is open to students of any age seeking hunter education certification to meet hunting requirements in New Mexico. This course is an instructor-led student course that incorporates lecture\, video\, break-out sessions\, review methods and homework to educate students. Students 10 and under must have a parent/adult present with them during class. All students MUST complete the Today’s Hunter student manual homework before participating in class. Students can pick up a free hard copy manual at Clovis Wing Shooting Center\, 726 County Rd. 17\, Clovis\, NM 88101. The manual can also be downloaded for free at www.hunter-ed.com/newmexico/manual/. Students are required to turn in their completed manual worksheets upon arrival to class. \n  \nRegistration opens at 9 a.m. on Oct. 27 and is conducted online through the student’s Customer ID Number (CIN) Account. Once in the account\, click on Hunter Education then click the Register for Hunter Ed Classes button and follow the prompts.     
URL:https://wildlife.dgf.nm.gov/event/hunter-education-79/2025-11-08/
LOCATION:Clovis Wing Shooting Center\, 726 County Rd 17\, Clovis\, New Mexico
CATEGORIES:Education Events,Hunting Events
ATTACH;FMTTYPE=image/jpeg:https://wildlife.dgf.nm.gov/wp-content/uploads/2014/01/title-background-elk.jpg
ORGANIZER;CN="Talon Reynolds":MAILTO:talonreynolds@gmail.com
END:VEVENT
BEGIN:VEVENT
DTSTART;TZID=America/Denver:20251109T090000
DTEND;TZID=America/Denver:20251109T170000
DTSTAMP:20260423T223935
CREATED:20251113T230147Z
LAST-MODIFIED:20251113T230147Z
UID:10000605-1762678800-1762707600@wildlife.dgf.nm.gov
SUMMARY:Hunter Education
DESCRIPTION:This course is open to students of any age seeking hunter education certification to meet hunting requirements in New Mexico. This course is an instructor-led student course that incorporates lecture\, video\, break-out sessions\, review methods and homework to educate students. Students 10 and under must have a parent/adult present with them during class. All students MUST complete the Today’s Hunter student manual homework before participating in class. Students can pick up a free hard copy manual at Clovis Wing Shooting Center\, 726 County Rd. 17\, Clovis\, NM 88101. The manual can also be downloaded for free at www.hunter-ed.com/newmexico/manual/. Students are required to turn in their completed manual worksheets upon arrival to class. \n  \nRegistration opens at 9 a.m. on Oct. 27 and is conducted online through the student’s Customer ID Number (CIN) Account. Once in the account\, click on Hunter Education then click the Register for Hunter Ed Classes button and follow the prompts.     
URL:https://wildlife.dgf.nm.gov/event/hunter-education-79/2025-11-09/
LOCATION:Clovis Wing Shooting Center\, 726 County Rd 17\, Clovis\, New Mexico
CATEGORIES:Education Events,Hunting Events
ATTACH;FMTTYPE=image/jpeg:https://wildlife.dgf.nm.gov/wp-content/uploads/2014/01/title-background-elk.jpg
ORGANIZER;CN="Talon Reynolds":MAILTO:talonreynolds@gmail.com
END:VEVENT
BEGIN:VEVENT
DTSTART;TZID=America/Denver:20251115T093000
DTEND;TZID=America/Denver:20251115T133000
DTSTAMP:20260423T223935
CREATED:20251113T220611Z
LAST-MODIFIED:20251113T220611Z
UID:10000595-1763199000-1763213400@wildlife.dgf.nm.gov
SUMMARY:Fishing Day with Cub Scouts Pack 409 at Tingley Beach
DESCRIPTION:A fishing day will be held for the Cub Scouts Pack 409 at Tingley Beach. Department volunteers will go over understanding fishing gear and bait\, tying knots\, how to recognize a bite\, and how to safely catch and release a fish. Participants will also listen to a fishing safety discussion. This event is closed to the public. \nN/A Closed to the public
URL:https://wildlife.dgf.nm.gov/event/fishing-day-with-cub-scouts-pack-409-at-tingley-beach/
LOCATION:Tingley Beach\, Albuquerque\, New Mexico
CATEGORIES:Education Events,Fishing Events
ATTACH;FMTTYPE=image/jpeg:https://wildlife.dgf.nm.gov/wp-content/uploads/2013/11/cutthroat-background.jpg
ORGANIZER;CN="Matty Gonzales":MAILTO:mathewgonzales@aol.com
END:VEVENT
BEGIN:VEVENT
DTSTART;TZID=America/Denver:20251118T120000
DTEND;TZID=America/Denver:20251118T133000
DTSTAMP:20260423T223935
CREATED:20251113T232039Z
LAST-MODIFIED:20251113T232039Z
UID:10000610-1763467200-1763472600@wildlife.dgf.nm.gov
SUMMARY:Career presentation
DESCRIPTION:Department staff will give a presentation on career opportunities in the Department and the education and experience to help college students get on the right track. This event is closed to the public.
URL:https://wildlife.dgf.nm.gov/event/career-presentation/
LOCATION:ENMU-Roswell\, 52 University Blvd.\, Roswell\, New Mexico
CATEGORIES:Education Events
ATTACH;FMTTYPE=image/jpeg:https://wildlife.dgf.nm.gov/wp-content/uploads/2014/01/title-background-le.jpg
END:VEVENT
BEGIN:VEVENT
DTSTART;TZID=America/Denver:20251122T080000
DTEND;TZID=America/Denver:20251122T180000
DTSTAMP:20260423T223935
CREATED:20251113T230306Z
LAST-MODIFIED:20251113T231149Z
UID:10000606-1763798400-1763834400@wildlife.dgf.nm.gov
SUMMARY:Hunter Education Instructor Training Workshop
DESCRIPTION:This workshop is required to become a certified hunter education instructor and will certify the individual to teach both the Traditional and the Field Day Hunter Education student courses. \nThis workshop also provides a NM Hunter Education certification to new instructors who need a required NM hunter education number. \nAll participants must register prior to attending. Please see registration details below. \nInterested applicants need to first become a certified Game and Fish volunteer. Below are the steps to become a certified volunteer: \n1. Create a Customer Identification Account (CIN) with the Department at https://onlinesales.wildlife.state.nm.us/ \n2. Email Storm Usrey\, Conservation Education Manager\, at stormw.usrey@dgf.nm.gov for volunteer application.                                                                                         \n3.Once the application is approved\, certified volunteers can sign-up for the hunter education workshop through their CIN account         \n 
URL:https://wildlife.dgf.nm.gov/event/hunter-education-instructor-training-workshop-9/
LOCATION:Bloomfield Multicultural Center\, 333 1st ST\, Bloomfild\, New Mexico
CATEGORIES:Education Events,Hunting Events
ATTACH;FMTTYPE=image/jpeg:https://wildlife.dgf.nm.gov/wp-content/uploads/2014/01/title-background-elk.jpg
ORGANIZER;CN="Stephanie Walton":MAILTO:stephanie.walton@dgf.nm.gov
END:VEVENT
BEGIN:VEVENT
DTSTART;TZID=America/Denver:20251124T180000
DTEND;TZID=America/Denver:20251124T210000
DTSTAMP:20260423T223935
CREATED:20251113T230845Z
LAST-MODIFIED:20251113T230845Z
UID:10000608-1764007200-1764018000@wildlife.dgf.nm.gov
SUMMARY:Hunter Education
DESCRIPTION:This course is open to students of any age seeking hunter education certification to meet hunting requirements in New Mexico. This course is an instructor-led student course that incorporates lecture\, video\, break-out sessions\, review methods and homework to educate students. Students 10 and under must have a parent/adult present with them during class. All students MUST complete the Today’s Hunter student manual homework before participating in class. Students can pick up a free hard copy manual at Eunice Pump & Supply\, 321 N Main\, Lovington\, NM. The manual can also be downloaded for free at www.hunter-ed.com/newmexico/manual/. Students are required to turn in their completed manual worksheets upon arrival to class. \nRegistration opens at 9 a.m. on Oct. 3 and is conducted online through the student’s Customer ID Number (CIN) Account. Once in the account\, click on Hunter Education then click the Register for Hunter Ed Classes button and follow the prompts.     
URL:https://wildlife.dgf.nm.gov/event/hunter-education-80/2025-11-24/
LOCATION:600 South 9th\, 600 South 9th\, Lovington\, New Mexico
CATEGORIES:Education Events,Hunting Events
ATTACH;FMTTYPE=image/jpeg:https://wildlife.dgf.nm.gov/wp-content/uploads/2014/01/title-background-elk.jpg
ORGANIZER;CN="Chandonette Kneese":MAILTO:chandykneese01@gmail.com
END:VEVENT
END:VCALENDAR