BEGIN:VCALENDAR
VERSION:2.0
PRODID:-//NMDGF - ECPv6.15.18//NONSGML v1.0//EN
CALSCALE:GREGORIAN
METHOD:PUBLISH
X-ORIGINAL-URL:https://wildlife.dgf.nm.gov
X-WR-CALDESC:Events for NMDGF
REFRESH-INTERVAL;VALUE=DURATION:PT1H
X-Robots-Tag:noindex
X-PUBLISHED-TTL:PT1H
BEGIN:VTIMEZONE
TZID:America/Denver
BEGIN:DAYLIGHT
TZOFFSETFROM:-0700
TZOFFSETTO:-0600
TZNAME:MDT
DTSTART:20230312T090000
END:DAYLIGHT
BEGIN:STANDARD
TZOFFSETFROM:-0600
TZOFFSETTO:-0700
TZNAME:MST
DTSTART:20231105T080000
END:STANDARD
BEGIN:DAYLIGHT
TZOFFSETFROM:-0700
TZOFFSETTO:-0600
TZNAME:MDT
DTSTART:20240310T090000
END:DAYLIGHT
BEGIN:STANDARD
TZOFFSETFROM:-0600
TZOFFSETTO:-0700
TZNAME:MST
DTSTART:20241103T080000
END:STANDARD
BEGIN:DAYLIGHT
TZOFFSETFROM:-0700
TZOFFSETTO:-0600
TZNAME:MDT
DTSTART:20250309T090000
END:DAYLIGHT
BEGIN:STANDARD
TZOFFSETFROM:-0600
TZOFFSETTO:-0700
TZNAME:MST
DTSTART:20251102T080000
END:STANDARD
END:VTIMEZONE
BEGIN:VEVENT
DTSTART;TZID=America/Denver:20240713T080000
DTEND;TZID=America/Denver:20240713T170000
DTSTAMP:20260425T141429
CREATED:20240722T192104Z
LAST-MODIFIED:20240722T192104Z
UID:10000087-1720857600-1720890000@wildlife.dgf.nm.gov
SUMMARY:Hunter Education
DESCRIPTION:This course is open to students of any age seeking Hunter Education certification to meet hunting requirements in New Mexico. This course is an instructor-led\, student course that incorporates lecture\, video\, hands-on break-out sessions\, review methods and homework to educate students. Students 10 and under must have a parent or adult present with them during class. All registered students MUST complete the Today’s Hunter student manual homework before participating in class. The manual can be downloaded for free at\, www.hunter-ed.com/newmexico/manual/ or students can pick up a free hard copy manual at  Las Cruces Game and Fish Office\, 2715 E Northrise Dr.\, Las Cruces\, NM 88011. Students are required to turn in their completed manual worksheets upon arrival to class. \nRegistration opens on June 24\, at 9 a.m. and is conducted online through the students Customer Id Number (CIN) Account. Once in the account\, click on Hunter Education then click the Register for Hunter Ed Classes button and follow the prompts.     
URL:https://wildlife.dgf.nm.gov/event/hunter-education-11/2024-07-13/
LOCATION:Department of Game and Fish Las Cruces Office\, 2715 E. Northrise Dr\, Las Cruces\, New Mexico
CATEGORIES:Education Events,Hunting Events
ORGANIZER;CN="Jeremy Hash":MAILTO:gameandfishvolunteer@gmail.com
END:VEVENT
BEGIN:VEVENT
DTSTART;TZID=America/Denver:20240713T080000
DTEND;TZID=America/Denver:20240713T210000
DTSTAMP:20260425T141429
CREATED:20240717T170002Z
LAST-MODIFIED:20240717T170002Z
UID:10000074-1720857600-1720904400@wildlife.dgf.nm.gov
SUMMARY:Advanced Hunter Education Skills Camp
DESCRIPTION:This camp is open to youth ages 10 to 17 who are accompanied by a registered adult. Camp is free\, meals will be provided and participants will tent-camp on the property. Participants will learn safe and responsible firearms handling\, ethical hunting behaviors\, conservation\, wildlife identification and basic survival skills. Additionally\, participants will learn from department conservation officers about their jobs including wildlife investigations\, decoy operations and working with wildlife and test their marksmanship skills with bows and arrows\, .22 rifles and shotguns. All equipment will be provided. \nRegistration Details:\nRegistration opens June 4 at https://forms.office.com/Pages/DesignPageV2.aspx?origin=NeoPortalPage&subpage=design&id=9GuqBDbUb0K_pAS3pw5g_7mEMPg30D5KsfSCj4nL1GhURExRMTJDRERMOFBQSk5ROEMzVUEwTDY5Uy4u. Slots will be filled on a first-come\, first-serve basis. To qualify for the camp\, participants must have a Customer Identification Number account with the department and complete the required homework before attending.
URL:https://wildlife.dgf.nm.gov/event/advanced-hunter-education-skills-camp-2/
LOCATION:Wedding Cake Ranch\, Folsom\, New Mexico
CATEGORIES:Education Events,Hunting Events
ORGANIZER;CN="Hunter Education Program Staff":MAILTO:dgf-he@dgf.nm.gov
END:VEVENT
BEGIN:VEVENT
DTSTART;TZID=America/Denver:20240714T080000
DTEND;TZID=America/Denver:20240714T120000
DTSTAMP:20260425T141429
CREATED:20240613T222532Z
LAST-MODIFIED:20240618T150952Z
UID:10000071-1720944000-1720958400@wildlife.dgf.nm.gov
SUMMARY:Advanced Hunter Education Skills Camp
DESCRIPTION:This camp is open to youth ages 10 to 17 who are accompanied by a registered adult. Camp is free\, meals will be provided and participants will tent-camp on the property. Participants will learn safe and responsible firearms handling\, ethical hunting behaviors\, conservation\, wildlife identification and basic survival skills. Additionally\, participants will learn from department conservation officers about their jobs including wildlife investigations\, decoy operations and working with wildlife and test their marksmanship skills with bows and arrows\, .22 rifles and shotguns. All equipment will be provided. \nRegistration Details:\nRegistration opens June 4 at https://forms.office.com/Pages/DesignPageV2.aspx?origin=NeoPortalPage&subpage=design&id=9GuqBDbUb0K_pAS3pw5g_7mEMPg30D5KsfSCj4nL1GhURExRMTJDRERMOFBQSk5ROEMzVUEwTDY5Uy4u. Slots will be filled on a first-come\, first-serve basis. To qualify for the camp\, participants must have a Customer Identification Number account with the department and complete the required homework before attending.
URL:https://wildlife.dgf.nm.gov/event/advanced-hunter-education-skills-camp/
LOCATION:Wedding Cake Ranch\, Folsom\, New Mexico
CATEGORIES:Education Events,Hunting Events
ATTACH;FMTTYPE=image/jpeg:https://wildlife.dgf.nm.gov/wp-content/uploads/2014/01/title-background-elk.jpg
ORGANIZER;CN="Hunter Education Program Staff":MAILTO:dgf-he@dgf.nm.gov
END:VEVENT
BEGIN:VEVENT
DTSTART;TZID=America/Denver:20240714T080000
DTEND;TZID=America/Denver:20240714T170000
DTSTAMP:20260425T141429
CREATED:20240722T192104Z
LAST-MODIFIED:20240722T192104Z
UID:10000088-1720944000-1720976400@wildlife.dgf.nm.gov
SUMMARY:Hunter Education
DESCRIPTION:This course is open to students of any age seeking Hunter Education certification to meet hunting requirements in New Mexico. This course is an instructor-led\, student course that incorporates lecture\, video\, hands-on break-out sessions\, review methods and homework to educate students. Students 10 and under must have a parent or adult present with them during class. All registered students MUST complete the Today’s Hunter student manual homework before participating in class. The manual can be downloaded for free at\, www.hunter-ed.com/newmexico/manual/ or students can pick up a free hard copy manual at  Las Cruces Game and Fish Office\, 2715 E Northrise Dr.\, Las Cruces\, NM 88011. Students are required to turn in their completed manual worksheets upon arrival to class. \nRegistration opens on June 24\, at 9 a.m. and is conducted online through the students Customer Id Number (CIN) Account. Once in the account\, click on Hunter Education then click the Register for Hunter Ed Classes button and follow the prompts.     
URL:https://wildlife.dgf.nm.gov/event/hunter-education-11/2024-07-14/
LOCATION:Department of Game and Fish Las Cruces Office\, 2715 E. Northrise Dr\, Las Cruces\, New Mexico
CATEGORIES:Education Events,Hunting Events
ORGANIZER;CN="Jeremy Hash":MAILTO:gameandfishvolunteer@gmail.com
END:VEVENT
BEGIN:VEVENT
DTSTART;TZID=America/Denver:20240719T140000
DTEND;TZID=America/Denver:20240719T144000
DTSTAMP:20260425T141429
CREATED:20240612T143946Z
LAST-MODIFIED:20240612T143946Z
UID:10000069-1721397600-1721400000@wildlife.dgf.nm.gov
SUMMARY:Wildlife presentation at Silver City Children's Library
DESCRIPTION:Wildlife presentation at Silver City Children’s Library \nRegistration Details:\nPlease contact Abigail Kipp @ akipp@silvercitypubliclibrary.org.
URL:https://wildlife.dgf.nm.gov/event/wildlife-presentation-at-silver-city-childrens-library/
LOCATION:Silver City\, Silver City\, New Mexico
CATEGORIES:Education Events
ATTACH;FMTTYPE=image/jpeg:https://wildlife.dgf.nm.gov/wp-content/uploads/2014/01/title-background-le.jpg
ORGANIZER;CN="Abigail Kipp":MAILTO:akipp@silvercitypubliclibrary.org
END:VEVENT
BEGIN:VEVENT
DTSTART;TZID=America/Denver:20240720T080000
DTEND;TZID=America/Denver:20240720T170000
DTSTAMP:20260425T141429
CREATED:20240722T192830Z
LAST-MODIFIED:20240722T194635Z
UID:10000089-1721462400-1721494800@wildlife.dgf.nm.gov
SUMMARY:Hunter Education-Field Day
DESCRIPTION:This course is open to students of any age seeking hunter education certification to meet hunting requirements in New Mexico. This course is an instructor-led\, student course that incorporates lecture\, video\, hands-on break-out sessions\, review methods and homework to educate students. Students 10 and under must have a parent or adult present with them during class. All registered students MUST complete the Today’s Hunter student manual homework before participating in class. The manual can be downloaded for free at\, www.hunter-ed.com/newmexico/manual/ or students can contact Ed Rosetta at 505-263-5337. Students are required to turn in their completed manual worksheets upon arrival to class. \n  \nRegistration opens at 9 a.m. on June 27\, 2024 and is conducted online through the students Customer Id Number (CIN) Account. Once in the account\, click on Hunter Education then click the Register for Hunter Ed Classes button and follow the prompts.
URL:https://wildlife.dgf.nm.gov/event/hunter-education-field-day/
LOCATION:San Felipe Pueblo Library\, San Felipe Pueblo\, New Mexico
CATEGORIES:Education Events,Hunting Events
ATTACH;FMTTYPE=image/jpeg:https://wildlife.dgf.nm.gov/wp-content/uploads/2014/01/title-background-elk.jpg
ORGANIZER;CN="Hunter Education Program Staff":MAILTO:dgf-he@dgf.nm.gov
END:VEVENT
BEGIN:VEVENT
DTSTART;TZID=America/Denver:20240726T160000
DTEND;TZID=America/Denver:20240726T210000
DTSTAMP:20260425T141429
CREATED:20240611T225500Z
LAST-MODIFIED:20240722T195038Z
UID:10000068-1722009600-1722027600@wildlife.dgf.nm.gov
SUMMARY:Hunter Education Camps
DESCRIPTION:This camp is open to youth ages 10-17 who are accompanied by a registered adult. Camp is free\, meals will be provided and participants will tent-camp on the property. \nParticipants will learn safe and responsible firearms handling\, ethical hunting behaviors\, conservation\, wildlife identification and basic survival skills. Additionally\, participants will learn from department conservation officers about their jobs including wildlife investigations\, decoy operations\, working with wildlife and test their marksmanship skills with bow and arrows. All equipment will be provided. \nRegistration opens July 1 at here. Slots will be filled on a first-come\, first-serve basis. To qualify for the camp\, participants must have a Customer Identification Number account with the department and complete the required homework before attending.
URL:https://wildlife.dgf.nm.gov/event/hunter-education-camps-3/2024-07-26/
LOCATION:B.S.A Camp Tres Ritos\, Tres Ritos\, New Mexico
CATEGORIES:Education Events,Hunting Events
ATTACH;FMTTYPE=image/jpeg:https://wildlife.dgf.nm.gov/wp-content/uploads/2014/01/title-background-elk.jpg
END:VEVENT
BEGIN:VEVENT
DTSTART;TZID=America/Denver:20240727T080000
DTEND;TZID=America/Denver:20240727T170000
DTSTAMP:20260425T141429
CREATED:20240611T225500Z
LAST-MODIFIED:20240722T195038Z
UID:10000095-1722067200-1722099600@wildlife.dgf.nm.gov
SUMMARY:Hunter Education Camps
DESCRIPTION:This camp is open to youth ages 10-17 who are accompanied by a registered adult. Camp is free\, meals will be provided and participants will tent-camp on the property. \nParticipants will learn safe and responsible firearms handling\, ethical hunting behaviors\, conservation\, wildlife identification and basic survival skills. Additionally\, participants will learn from department conservation officers about their jobs including wildlife investigations\, decoy operations\, working with wildlife and test their marksmanship skills with bow and arrows. All equipment will be provided. \nRegistration opens July 1 at here. Slots will be filled on a first-come\, first-serve basis. To qualify for the camp\, participants must have a Customer Identification Number account with the department and complete the required homework before attending.
URL:https://wildlife.dgf.nm.gov/event/hunter-education-camps-3/2024-07-27/
LOCATION:B.S.A Camp Tres Ritos\, Tres Ritos\, New Mexico
CATEGORIES:Education Events,Hunting Events
ATTACH;FMTTYPE=image/jpeg:https://wildlife.dgf.nm.gov/wp-content/uploads/2014/01/title-background-elk.jpg
END:VEVENT
BEGIN:VEVENT
DTSTART;TZID=America/Denver:20240728T080000
DTEND;TZID=America/Denver:20240728T120000
DTSTAMP:20260425T141429
CREATED:20240610T163623Z
LAST-MODIFIED:20240610T163623Z
UID:10000065-1722153600-1722168000@wildlife.dgf.nm.gov
SUMMARY:Hunter Education Camps
DESCRIPTION:This camp is open to youth ages 10-17 who are accompanied by a registered adult. Camp is free\, meals will be provided and participants will tent-camp on the property. \nParticipants will learn safe and responsible firearms handling\, ethical hunting behaviors\, conservation\, wildlife identification and basic survival skills. Additionally\, participants will learn from department conservation officers about their jobs including wildlife investigations\, decoy operations\, working with wildlife and test their marksmanship skills with bow and arrows. All equipment will be provided. \nRegistration opens July 1 at here. Slots will be filled on a first-come\, first-serve basis. To qualify for the camp\, participants must have a Customer Identification Number account with the department and complete the required homework before attending.
URL:https://wildlife.dgf.nm.gov/event/hunter-education-camps/
LOCATION:B.S.A Camp Tres Ritos\, Tres Ritos\, New Mexico
CATEGORIES:Education Events,Hunting Events
ATTACH;FMTTYPE=image/jpeg:https://wildlife.dgf.nm.gov/wp-content/uploads/2014/01/title-background-elk.jpg
ORGANIZER;CN="Hunter Education Program Staff":MAILTO:dgf-he@dgf.nm.gov
END:VEVENT
BEGIN:VEVENT
DTSTART;TZID=America/Denver:20240731T100000
DTEND;TZID=America/Denver:20240731T150000
DTSTAMP:20260425T141429
CREATED:20240610T163357Z
LAST-MODIFIED:20240610T163427Z
UID:10000064-1722420000-1722438000@wildlife.dgf.nm.gov
SUMMARY:Hunter Education Skills Day
DESCRIPTION:The New Mexico Department of Game and Fish is hosting a Hunter Education Skills Day at Esther Bone Memorial Library on Wednesday\, July 31\, from 10 a.m.-3 p.m. Registration is open to youth 10-17 years of age who have not yet passed a hunter education course. Participants will have the opportunity to earn their hunter education certification during this session. \nThis opportunity is free\, and the course is a blended learning session. For the first part of the session\, students must complete their reading\, quizzes\, and exam online at https://www.ilearntohunt.com/newmexico/ before the July 31 Skills Day (once registered a code will be provided so the student can take the online portion free of charge). In part two\, students who complete the required online portion will bring their completion certificate to the in-person session on July 31\, hosted at the library. \nDuring the skills day\, Department staff and certified volunteer instructors will be sharing their hunting knowledge and providing students the opportunity to learn how to safely handle deactivated hunting-style firearms\, test their ethical shot placement and safe firearms handling skills with a shoot/don’t shoot simulator\, and have the unique opportunity to learn how to field dress and elk using the Department’s new virtual reality field dressing simulator! \nParticipants must bring their lunch\, snacks and drinks for the day. \nRegistration Details:\n \nTo qualify\, participants must be at least 10 years of age at the time of registration and have not previously passed a hunter education course. Space is limited to 15 and will be filled on a first-come basis. Each youth must submit a completed registration form at https://forms.office.com/g/92WtBUvvXa to qualify. Registration opens on July 8 at 9 am. \nBefore completing this registration form\, each youth must have a New Mexico Department of Game and Fish Customer Identification Number (CIN) account. If the student does not have an account\, please go to https://onlinesales.wildlife.state.nm.us to create one. Be sure to write down the CIN that is assigned to the youth.
URL:https://wildlife.dgf.nm.gov/event/hunter-education-skills-day/
LOCATION:Esther Bone Plunlic Library\, Rio Rancho\, New Mexico
CATEGORIES:Education Events,Hunting Events
ATTACH;FMTTYPE=image/jpeg:https://wildlife.dgf.nm.gov/wp-content/uploads/2014/01/title-background-elk.jpg
ORGANIZER;CN="Hunter Education Program Staff":MAILTO:dgf-he@dgf.nm.gov
END:VEVENT
END:VCALENDAR