BEGIN:VCALENDAR
VERSION:2.0
PRODID:-//NMDGF - ECPv6.15.18//NONSGML v1.0//EN
CALSCALE:GREGORIAN
METHOD:PUBLISH
X-ORIGINAL-URL:https://wildlife.dgf.nm.gov
X-WR-CALDESC:Events for NMDGF
REFRESH-INTERVAL;VALUE=DURATION:PT1H
X-Robots-Tag:noindex
X-PUBLISHED-TTL:PT1H
BEGIN:VTIMEZONE
TZID:America/Denver
BEGIN:DAYLIGHT
TZOFFSETFROM:-0700
TZOFFSETTO:-0600
TZNAME:MDT
DTSTART:20230312T090000
END:DAYLIGHT
BEGIN:STANDARD
TZOFFSETFROM:-0600
TZOFFSETTO:-0700
TZNAME:MST
DTSTART:20231105T080000
END:STANDARD
BEGIN:DAYLIGHT
TZOFFSETFROM:-0700
TZOFFSETTO:-0600
TZNAME:MDT
DTSTART:20240310T090000
END:DAYLIGHT
BEGIN:STANDARD
TZOFFSETFROM:-0600
TZOFFSETTO:-0700
TZNAME:MST
DTSTART:20241103T080000
END:STANDARD
BEGIN:DAYLIGHT
TZOFFSETFROM:-0700
TZOFFSETTO:-0600
TZNAME:MDT
DTSTART:20250309T090000
END:DAYLIGHT
BEGIN:STANDARD
TZOFFSETFROM:-0600
TZOFFSETTO:-0700
TZNAME:MST
DTSTART:20251102T080000
END:STANDARD
END:VTIMEZONE
BEGIN:VEVENT
DTSTART;TZID=America/Denver:20240513T080000
DTEND;TZID=America/Denver:20240513T130000
DTSTAMP:20260425T203223
CREATED:20240513T205305Z
LAST-MODIFIED:20240513T205529Z
UID:10000039-1715587200-1715605200@wildlife.dgf.nm.gov
SUMMARY:Falconry Presentation
DESCRIPTION:This Presentation is closed to the public. \nPresentation will present information on basic biology\, conservation\, and the sport of falconry
URL:https://wildlife.dgf.nm.gov/event/falconry-presentation/
LOCATION:Taos\, NM\, New Mexico
CATEGORIES:Conservation Events,Education Events
ATTACH;FMTTYPE=image/png:https://wildlife.dgf.nm.gov/wp-content/uploads/2014/03/title-background-NMDGF.png
ORGANIZER;CN="Dela Joyner":MAILTO:dela.joyner@dgf.nm.gov
END:VEVENT
BEGIN:VEVENT
DTSTART;TZID=America/Denver:20240513T180000
DTEND;TZID=America/Denver:20240513T200000
DTSTAMP:20260425T203223
CREATED:20240513T205755Z
LAST-MODIFIED:20240513T205755Z
UID:10000040-1715623200-1715630400@wildlife.dgf.nm.gov
SUMMARY:3-D Archery Adventure with SMU-in-Taos
DESCRIPTION:SMU-in-Taos Summer College Program will participate in a 3-D Archery Adventure Shoot. College-age students will walk a pre-determined course in small groups. Each archer gets a one to three shots at a three-dimensional target shaped like an animal. The targets on the animals cover the vital areas where a hunter would normally aim. These courses challenge archers to adapt their shooting to account for variable conditions\, distances and angles. Students will learn how to score a target and track their individual score. \n\n\n\n\nPrivate event. – Must be pre-enrolled through the SMU-in-Taos summer program.
URL:https://wildlife.dgf.nm.gov/event/3-d-archery-adventure-with-smu-in-taos/
LOCATION:Fort Burgwin\, 6580 NM-518\, Ranchos De Taos\, New Mexico
CATEGORIES:Education Events,Recreation Events
ATTACH;FMTTYPE=image/png:https://wildlife.dgf.nm.gov/wp-content/uploads/2013/11/bear-title-background.png
ORGANIZER;CN="Bruce Atencio":MAILTO:Bruce.Atencio@dgf.nm.gov
END:VEVENT
BEGIN:VEVENT
DTSTART;TZID=America/Denver:20240517T093000
DTEND;TZID=America/Denver:20240517T133000
DTSTAMP:20260425T203223
CREATED:20240514T213822Z
LAST-MODIFIED:20240514T213822Z
UID:10000044-1715938200-1715952600@wildlife.dgf.nm.gov
SUMMARY:Fishing and Wildlife Trunks
DESCRIPTION:Department staff will be fishing and showing wildlife trunks to kids with the Moriarty-Edgewood School District Early Childhood Center. \nRegistration Details: \nN/A.  Closed to the public.
URL:https://wildlife.dgf.nm.gov/event/fishing-and-wildlife-trunks/
LOCATION:Moriarity\, NM
CATEGORIES:Education Events,Fishing Events
ATTACH;FMTTYPE=image/png:https://wildlife.dgf.nm.gov/wp-content/uploads/2014/03/title-background-fish.png
END:VEVENT
BEGIN:VEVENT
DTSTART;TZID=America/Denver:20240518T090000
DTEND;TZID=America/Denver:20240518T150000
DTSTAMP:20260425T203223
CREATED:20240514T214714Z
LAST-MODIFIED:20240514T214923Z
UID:10000046-1716022800-1716044400@wildlife.dgf.nm.gov
SUMMARY:Bowhunter Skills Camp
DESCRIPTION:This camp is for participants of any age who is interested in learning more about the basics of archery and bow hunting. Participants will learn archery basics and safety\, how to choose equipment\, proper shot placement while hunting\, outdoor preparedness\, and more! \nAll archery equipment will be provided however\, participants are encouraged to bring their own equipment if they have it. Camping is available at the State Park per reservation. Participants are responsible for all food and drinks. Youth under 18 must have a parent or adult present during the camp. \nRegistration Details:\n \nRegistration opens April 17 at 9 a.m. on the following link\, https://forms.office.com/g/J9DmTKuciZ. The registration link will also be available on the Hunter Education Camp tab on the following department web page\, https://www.wildlife.state.nm.us/education/hunter-education/#camps \nAll participants must have a Department Customer Id Number (CIN) Account and enter this number onto the registration form.
URL:https://wildlife.dgf.nm.gov/event/bowhunter-skills-camp/
LOCATION:Manzano Mountains State Park\, Co Rd B062\, Mountainair\, New Mexico\, 87036
CATEGORIES:Education Events,Recreation Events
ATTACH;FMTTYPE=image/jpeg:https://wildlife.dgf.nm.gov/wp-content/uploads/2014/01/title-background-elk.jpg
ORGANIZER;CN="Hunter Education Program Staff":MAILTO:dgf-he@dgf.nm.gov
END:VEVENT
BEGIN:VEVENT
DTSTART;TZID=America/Denver:20240518T130000
DTEND;TZID=America/Denver:20240518T140000
DTSTAMP:20260425T203223
CREATED:20240509T174129Z
LAST-MODIFIED:20240509T203552Z
UID:10000004-1716037200-1716040800@wildlife.dgf.nm.gov
SUMMARY:Esther Bone Public Library Wildlife Presentation
DESCRIPTION:NMDGF will be giving a wildlife presentation at Esther Bone Public Library in Rio Rancho\, New Mexico.
URL:https://wildlife.dgf.nm.gov/event/esther-bone-public-library-wildlife-presentation/
LOCATION:New Mexico
CATEGORIES:Education Events
ATTACH;FMTTYPE=image/jpeg:https://wildlife.dgf.nm.gov/wp-content/uploads/2014/01/title-background-elk.jpg
END:VEVENT
BEGIN:VEVENT
DTSTART;TZID=America/Denver:20240522T090000
DTEND;TZID=America/Denver:20240522T130000
DTSTAMP:20260425T203223
CREATED:20240523T152727Z
LAST-MODIFIED:20240523T152727Z
UID:10000052-1716368400-1716382800@wildlife.dgf.nm.gov
SUMMARY:Aquatic Insect Lab/Fishing with Santa Fe Home School Community
DESCRIPTION:The New Mexico Department of Game and Fish Aquatic Education program will be working with Santa Fe Home School Community by conducting an Aquatic Insect lab and fishing with group participants ranging in age from 7-17 years of age. This event is closed to the public.
URL:https://wildlife.dgf.nm.gov/event/aquatic-insect-lab-fishing-with-santa-fe-home-school-community/
LOCATION:Monastery Lake
CATEGORIES:Education Events,Fishing Events
ATTACH;FMTTYPE=image/png:https://wildlife.dgf.nm.gov/wp-content/uploads/2014/03/title-background-fish.png
ORGANIZER;CN="Rachael Allen":MAILTO:lenis101@yahoo.com
END:VEVENT
BEGIN:VEVENT
DTSTART;TZID=America/Denver:20240522T183000
DTEND;TZID=America/Denver:20240522T203000
DTSTAMP:20260425T203223
CREATED:20240523T153313Z
LAST-MODIFIED:20240523T153420Z
UID:10000053-1716402600-1716409800@wildlife.dgf.nm.gov
SUMMARY:Wild Turkey Cook Along
DESCRIPTION:You’re invited to join us live on Wednesday May 22\, 2024\, at 6:30 p.m. for this special virtual wild turkey cook-along event. \nHave you been hitting the turkey hills this season? If yes\, and you have been fortunate enough to bring home some of that fresh and delicious turkey meat\, then join NMDGF Staff as we cook up “Meateater’s Copycat Chick-Fil-A Turkey Nuggets” and other fun fixings that you and your family are sure to enjoy. \nDidn’t notch a tag? Join us anyway and substitute wild turkey meat for any white meat bird you have in your freezer. You must register at the Zoom link by noon on May 20th. This will give you time to snag all the ingredients and get that kitchen prep ready to go for our first ever cook along event. \n \nWhile this event is focused on ladies\, we welcome everyone to join us. \nTo participate in the virtual session click the following link to register by noon on May 20th for this meeting\, \nhttps://us02web.zoom.us/meeting/register/tZEvce-tpjMqGtGwTZJglFN_w-T_rV1Pz0Qa \nAfter registering\, you will receive a confirmation email\, ingredient lists\, and recipes for this event.
URL:https://wildlife.dgf.nm.gov/event/wild-turkey-cook-along/
LOCATION:virtual or zoom
CATEGORIES:Education Events,Recreation Events
ATTACH;FMTTYPE=image/png:https://wildlife.dgf.nm.gov/wp-content/uploads/2014/03/title-background-NMDGF.png
ORGANIZER;CN="Stephanie Walton":MAILTO:stephanie.walton@dgf.nm.gov
END:VEVENT
BEGIN:VEVENT
DTSTART;VALUE=DATE:20240531
DTEND;VALUE=DATE:20240601
DTSTAMP:20260425T203223
CREATED:20240523T155245Z
LAST-MODIFIED:20240523T155816Z
UID:10000055-1717113600-1717199999@wildlife.dgf.nm.gov
SUMMARY:New Mexico Youth Hunter Education Challenge
DESCRIPTION:The Department will be assisting the New Mexico YHEC 501c3 with putting on this year’s youth hunter education challenge. \nNew Mexico Youth Hunter Education Challenge (YHEC) is held once a year for kids ages 7-18 to help improve their hunting\, marksmanship and safety skills. \nThrough simulated hunting situations\, live fire competitions\, and responsible hunting events\, YHEC helps build upon skills learned in basic hunter education courses and encourages safer\, lifelong hunting habits. \nFrom rifle\, bow and muzzleloader shooting at life-sized targets\, to wildlife identification\, map and compass orienteering and more\, YHEC participants get hands-on training in eight skill areas\, giving them expertise in all hunting practices. \nRegistration for the Youth Hunter Education Challenge (YHEC) will be on nmyhec.com.\nParticipants must have taken a hunter education class to compete.
URL:https://wildlife.dgf.nm.gov/event/new-mexico-youth-hunter-education-challenge/
LOCATION:NRA Wittington Center\, Raton\, New Mexico
CATEGORIES:Education Events,Hunting Events
ATTACH;FMTTYPE=image/png:https://wildlife.dgf.nm.gov/wp-content/uploads/2013/11/bear-title-background.png
END:VEVENT
END:VCALENDAR