BEGIN:VCALENDAR
VERSION:2.0
PRODID:-//NMDGF - ECPv6.15.18//NONSGML v1.0//EN
CALSCALE:GREGORIAN
METHOD:PUBLISH
X-WR-CALNAME:NMDGF
X-ORIGINAL-URL:https://wildlife.dgf.nm.gov
X-WR-CALDESC:Events for NMDGF
REFRESH-INTERVAL;VALUE=DURATION:PT1H
X-Robots-Tag:noindex
X-PUBLISHED-TTL:PT1H
BEGIN:VTIMEZONE
TZID:America/Denver
BEGIN:DAYLIGHT
TZOFFSETFROM:-0700
TZOFFSETTO:-0600
TZNAME:MDT
DTSTART:20230312T090000
END:DAYLIGHT
BEGIN:STANDARD
TZOFFSETFROM:-0600
TZOFFSETTO:-0700
TZNAME:MST
DTSTART:20231105T080000
END:STANDARD
BEGIN:DAYLIGHT
TZOFFSETFROM:-0700
TZOFFSETTO:-0600
TZNAME:MDT
DTSTART:20240310T090000
END:DAYLIGHT
BEGIN:STANDARD
TZOFFSETFROM:-0600
TZOFFSETTO:-0700
TZNAME:MST
DTSTART:20241103T080000
END:STANDARD
BEGIN:DAYLIGHT
TZOFFSETFROM:-0700
TZOFFSETTO:-0600
TZNAME:MDT
DTSTART:20250309T090000
END:DAYLIGHT
BEGIN:STANDARD
TZOFFSETFROM:-0600
TZOFFSETTO:-0700
TZNAME:MST
DTSTART:20251102T080000
END:STANDARD
END:VTIMEZONE
BEGIN:VEVENT
DTSTART;TZID=America/Denver:20240803T090000
DTEND;TZID=America/Denver:20240803T170000
DTSTAMP:20260421T183804
CREATED:20240710T171341Z
LAST-MODIFIED:20240710T171540Z
UID:10000072-1722675600-1722704400@wildlife.dgf.nm.gov
SUMMARY:NOTICE OF POSSIBLE QUORUM
DESCRIPTION:A quorum of Commissioners of the New Mexico State Game Commission may be in attendance at the following event: \nEvent: Special Catron County Commission Meeting Regarding Mexican Gray Wolf \nProgram Date and Time: Saturday\, August 3\, 2024\, @ 9:00 a.m. \nLocation: Catron County Office 101 Main St. Reserve\, NM 87830 \n  \nALTHOUGH A QUORUM OF STATE GAME COMMISSIONERS MAY BE PRESENT AT THIS EVENT IT WILL NOT BE AN “OPEN MEETING” OF THE STATE GAME COMMISSION PURSUANT TO THE NEW MEXICO OPEN MEETINGS ACT\, 10-15-1 et seq. NMSA 1978. THERE SHALL BE NO DIRECT DISCUSSION AMONG FOUR OR MORE STATE GAME COMMISSIONERS\, NO FORMULATION OF PUBLIC POLICY\, NO DEVELOPMENT OF PERSONNEL POLICY\, NO DEVELOPMENT OF RULES\, REGULATIONS OR ORDINANCES\, NO DISCUSSION OF PUBLIC BUSINESS AND NO CONDUCT OF BUSINESS BY VOTE OR ANY OTHER ACTION WITHIN THE AUTHORITY OF THE FULL STATE GAME COMMISSION THAT WILL OCCUR AT THIS EVENT.
URL:https://wildlife.dgf.nm.gov/event/notice-of-possible-quorum/
LOCATION:Catron County Office\, 101 Main St.\, Reserve\, New Mexico\, 87830
CATEGORIES:Commission Events,Commission Meetings
ATTACH;FMTTYPE=image/png:https://wildlife.dgf.nm.gov/wp-content/uploads/2013/11/bear-title-background.png
END:VEVENT
BEGIN:VEVENT
DTSTART;TZID=America/Denver:20240815T090000
DTEND;TZID=America/Denver:20240815T170000
DTSTAMP:20260421T183804
CREATED:20240806T213134Z
LAST-MODIFIED:20240806T213134Z
UID:10000113-1723712400-1723741200@wildlife.dgf.nm.gov
SUMMARY:Public Meeting: Citizen Advisory Committee to Meet Aug. 15
DESCRIPTION:SANTA FE – The New Mexico Department of Game and Fish (Department) has scheduled a public meeting with the Habitat Stamp Citizen Advisory Committee. The Citizen Advisory Committee will prioritize project opportunities at this meeting. Members of the public are invited to attend this hybrid public meeting. An agenda will be posted on the Habitat Stamp webpage prior to the meeting. \n\nThursday August 15\, 2024\, Santa Fe\, 9 a.m.\n\nAttend in person at 1 Wildlife Way\, Santa Fe\, NM\, 87507\nRegister in advance to attend virtually\n\n\n\nA meeting agenda along with information about how to attend virtually will be available on the Department webpage\,
URL:https://wildlife.dgf.nm.gov/event/public-meeting-citizen-advisory-committee-to-meet-aug-15/
LOCATION:Department of Game and Fish Santa Fe Office\, 1 Wildlife Way\,\, Santa Fe\, New Mexico
CATEGORIES:Commission Events,Commission Meetings
ATTACH;FMTTYPE=image/png:https://wildlife.dgf.nm.gov/wp-content/uploads/2013/11/bear-title-background.png
ORGANIZER;CN="Darren Vaughan":MAILTO:darren.vaughan@dgf.nm.gov
END:VEVENT
END:VCALENDAR