BEGIN:VCALENDAR
VERSION:2.0
PRODID:-//NMDGF - ECPv6.15.18//NONSGML v1.0//EN
CALSCALE:GREGORIAN
METHOD:PUBLISH
X-ORIGINAL-URL:https://wildlife.dgf.nm.gov
X-WR-CALDESC:Events for NMDGF
REFRESH-INTERVAL;VALUE=DURATION:PT1H
X-Robots-Tag:noindex
X-PUBLISHED-TTL:PT1H
BEGIN:VTIMEZONE
TZID:America/Denver
BEGIN:DAYLIGHT
TZOFFSETFROM:-0700
TZOFFSETTO:-0600
TZNAME:MDT
DTSTART:20230312T090000
END:DAYLIGHT
BEGIN:STANDARD
TZOFFSETFROM:-0600
TZOFFSETTO:-0700
TZNAME:MST
DTSTART:20231105T080000
END:STANDARD
BEGIN:DAYLIGHT
TZOFFSETFROM:-0700
TZOFFSETTO:-0600
TZNAME:MDT
DTSTART:20240310T090000
END:DAYLIGHT
BEGIN:STANDARD
TZOFFSETFROM:-0600
TZOFFSETTO:-0700
TZNAME:MST
DTSTART:20241103T080000
END:STANDARD
BEGIN:DAYLIGHT
TZOFFSETFROM:-0700
TZOFFSETTO:-0600
TZNAME:MDT
DTSTART:20250309T090000
END:DAYLIGHT
BEGIN:STANDARD
TZOFFSETFROM:-0600
TZOFFSETTO:-0700
TZNAME:MST
DTSTART:20251102T080000
END:STANDARD
END:VTIMEZONE
BEGIN:VEVENT
DTSTART;TZID=America/Denver:20240715T090000
DTEND;TZID=America/Denver:20240715T170000
DTSTAMP:20260421T215320
CREATED:20240806T200600Z
LAST-MODIFIED:20240806T212122Z
UID:10000112-1721034000-1721062800@wildlife.dgf.nm.gov
SUMMARY:Public Meeting: Citizen Advisory Committee to Meet July 15
DESCRIPTION:LAS CRUCES – The New Mexico Department of Game and Fish (Department) has scheduled a public meeting with the Habitat Stamp Citizen Advisory Committee. Habitat restoration project opportunities that have been jointly developed by the Bureau of Land Management\, Forest Service\, and the Department will be presented. Members of the public are invited to attend this hybrid public meeting. An agenda will be posted on the Habitat Stamp website prior to the meeting. \n\nMonday July 15\, 2024\, Las Cruces\, 9 a.m.\n\nAttend in person at SW Area Office\, 2715 Northrise Drive\, Las Cruces\, NM 88011\nRegister in advance to attend virtually\n\n\n\nA meeting agenda along with information about how to attend virtually will be available on the Department webpage\, https://wildlife.dgf.nm.gov/conservation/public-land-user-stamp/. \nComments can be provided by mail: New Mexico Department of Game and Fish\, Attn: Public Land User Stamp\, 1 Wildlife Way\, Santa Fe\, NM 87507; or by email\, PublicLandUserStamp@dgf.nm.gov\, or in person at the meeting listed above.
URL:https://wildlife.dgf.nm.gov/event/public-meeting-citizen-advisory-committee-to-meet-july-15/
LOCATION:NM
CATEGORIES:Commission Events,Commission Meetings
END:VEVENT
END:VCALENDAR